BEGIN:VCALENDAR
VERSION:2.0
PRODID:-//digitalHUB Aachen - ECPv6.15.20//NONSGML v1.0//EN
CALSCALE:GREGORIAN
METHOD:PUBLISH
X-ORIGINAL-URL:https://www.aachen.digital/en/
X-WR-CALDESC:Events for digitalHUB Aachen
REFRESH-INTERVAL;VALUE=DURATION:PT1H
X-Robots-Tag:noindex
X-PUBLISHED-TTL:PT1H
BEGIN:VTIMEZONE
TZID:Europe/Berlin
BEGIN:DAYLIGHT
TZOFFSETFROM:+0100
TZOFFSETTO:+0200
TZNAME:CEST
DTSTART:20230326T010000
END:DAYLIGHT
BEGIN:STANDARD
TZOFFSETFROM:+0200
TZOFFSETTO:+0100
TZNAME:CET
DTSTART:20231029T010000
END:STANDARD
BEGIN:DAYLIGHT
TZOFFSETFROM:+0100
TZOFFSETTO:+0200
TZNAME:CEST
DTSTART:20240331T010000
END:DAYLIGHT
BEGIN:STANDARD
TZOFFSETFROM:+0200
TZOFFSETTO:+0100
TZNAME:CET
DTSTART:20241027T010000
END:STANDARD
BEGIN:DAYLIGHT
TZOFFSETFROM:+0100
TZOFFSETTO:+0200
TZNAME:CEST
DTSTART:20250330T010000
END:DAYLIGHT
BEGIN:STANDARD
TZOFFSETFROM:+0200
TZOFFSETTO:+0100
TZNAME:CET
DTSTART:20251026T010000
END:STANDARD
END:VTIMEZONE
BEGIN:VEVENT
DTSTART;TZID=Europe/Berlin:20241126T170000
DTEND;TZID=Europe/Berlin:20241126T210000
DTSTAMP:20260423T180224
CREATED:20241008T130149Z
LAST-MODIFIED:20241008T130149Z
UID:10006881-1732640400-1732654800@www.aachen.digital
SUMMARY:Ignition Demo Night #18
DESCRIPTION:Sei dabei\, wenn die 7 Ignition Start-ups ihre Innovationen für den Next Level Industry Tech-Bereich präsentieren! \nIgnition unterstützt seit 2017 Start-ups mit ihrem 5-monatigen Accelerator Programm “Ignition+”. Jedes der Start-ups wird dafür mit 25.000€ ohne Beteiligung unterstützt. Zusätzlich wird u.a. Mentoring\, Coaching\, Pilotprojekte\, Peer-Group-Austausch\, Events\, Netzwerkzugang\, Matchmaking oder die Vorbereitung auf Investorengespräche angeboten. Die Meilensteine: Product-Development\, Proof-of-Concept\, Product-Market-Fit und Scaling Readiness. \nMit der legendären Ignition Demo Night “Pitch Party” endet das Programm. Die Regeln für den Abend sind simpel\, erst pitchen die 7 Start-ups\, danach geht es zum Networking. \nANMELDUNG & INFOS
URL:https://www.aachen.digital/en/event/ignition-demo-night-18/
LOCATION:Stadtsparkasse Düsseldorf – Zentrale\, Berliner Allee 33\, Düsseldorf\, 40212
ATTACH;FMTTYPE=image/jpeg:https://www.aachen.digital/wp-content/uploads/2024/10/Ignition-Stage.jpg
ORGANIZER;CN="digihub D%C3%BCsseldorf Rheinland":MAILTO:info@digihub.de
END:VEVENT
END:VCALENDAR