BEGIN:VCALENDAR
VERSION:2.0
PRODID:-//digitalHUB Aachen - ECPv6.15.20//NONSGML v1.0//EN
CALSCALE:GREGORIAN
METHOD:PUBLISH
X-ORIGINAL-URL:https://www.aachen.digital/en/
X-WR-CALDESC:Events for digitalHUB Aachen
REFRESH-INTERVAL;VALUE=DURATION:PT1H
X-Robots-Tag:noindex
X-PUBLISHED-TTL:PT1H
BEGIN:VTIMEZONE
TZID:Europe/Berlin
BEGIN:DAYLIGHT
TZOFFSETFROM:+0100
TZOFFSETTO:+0200
TZNAME:CEST
DTSTART:20210328T010000
END:DAYLIGHT
BEGIN:STANDARD
TZOFFSETFROM:+0200
TZOFFSETTO:+0100
TZNAME:CET
DTSTART:20211031T010000
END:STANDARD
BEGIN:DAYLIGHT
TZOFFSETFROM:+0100
TZOFFSETTO:+0200
TZNAME:CEST
DTSTART:20220327T010000
END:DAYLIGHT
BEGIN:STANDARD
TZOFFSETFROM:+0200
TZOFFSETTO:+0100
TZNAME:CET
DTSTART:20221030T010000
END:STANDARD
BEGIN:DAYLIGHT
TZOFFSETFROM:+0100
TZOFFSETTO:+0200
TZNAME:CEST
DTSTART:20230326T010000
END:DAYLIGHT
BEGIN:STANDARD
TZOFFSETFROM:+0200
TZOFFSETTO:+0100
TZNAME:CET
DTSTART:20231029T010000
END:STANDARD
END:VTIMEZONE
BEGIN:VEVENT
DTSTART;TZID=Europe/Berlin:20221208T140000
DTEND;TZID=Europe/Berlin:20221208T174500
DTSTAMP:20260423T204443
CREATED:20221121T135348Z
LAST-MODIFIED:20221121T135348Z
UID:10006355-1670508000-1670521500@www.aachen.digital
SUMMARY:AC²-Innovationstag
DESCRIPTION:Unternehmen mit neuen\, innovativen Ideen\, sei es bei der Gründung oder im Wachstum\, stehen häufig vor besonderen Herausforderungen\, wobei die technologischen Herausforderungen “nur“ die Spitze des Eisbergs sind. Wie kann man ein neues Produkt in den Markt einführen\, wie sich vor Nachahmung anderer schützen\, wie die unternehmerisch notwendigen Strukturen und Netzwerke aufbauen und\, letztlich\, wie den Markt erobern und die Finanzierung von alldem stemmen? \nWie man Innovationen gezielt provozieren kann\, erfahren Sie bei unserem diesjährigen “AC²-Innovationstag” am 8. Dezember 2022 ab 13:30 Uhr im Haus der StädteRegion Aachen. In seiner Keynote wird der Innovationsexperte Prof. Dr. Gunther Herr vom WOIS Institut in Coburg diesen spannenden Aspekt näher beleuchten. Weitere Vortragende gehen u. a. auf die Finanzierung und Förderung von Innovationen sowie auf Schutzrechte ein. \nProgramm \n\n13:30 Uhr\nEinlass\n14:00 Uhr\nBegrüßung & Intro\nHavva Coskun-Dogan\, AGIT mbH\n14:15 Uhr\nKeynote: Innovationen gezielt provozieren     \nProf. Dr. Gunther Herr\, Wois Institut\, Coburg\n15:00 Uhr\nMit Schutzrechten zu wettbewerbsfähigen Innovationen\nPatentanwalt Thilo Schmelcher\, RCD-Patent PartG mbB\, Herzogenrath\n15:40 Uhr \nKaffeepause\n16:00Uhr\nMarkenschutz und Markenrecherche – So können Sie Ihre Ideen als Marke schützen!\nPatent- und Normenzentrum der RWTH Aachen University\n16:40 Uhr\nFinanzierung und Förderung von Innovationen\nChristoph Köpke\, Innovationsmanager\, EurA AG\, Aachen\n17:15 Uhr\nFragen & abschließende Diskussion\, Get-together\n17:45 Uhr\nEnde\n\nDie Veranstaltung ist kostenfrei. Anmeldung bis zum 07.12.2022. \nZUR ANMELDUNG
URL:https://www.aachen.digital/en/event/ac%c2%b2-innovationstag/
LOCATION:Städteregion Aachen\, Zollernstr. 10\, Aachen
ATTACH;FMTTYPE=image/jpeg:https://www.aachen.digital/wp-content/uploads/2022/11/agit_ac2innovationstag.jpg
ORGANIZER;CN="AGIT mbH":MAILTO:info@agit.de
END:VEVENT
END:VCALENDAR