BEGIN:VCALENDAR
VERSION:2.0
PRODID:-//digitalHUB Aachen - ECPv6.15.20//NONSGML v1.0//EN
CALSCALE:GREGORIAN
METHOD:PUBLISH
X-WR-CALNAME:digitalHUB Aachen
X-ORIGINAL-URL:https://www.aachen.digital/en/
X-WR-CALDESC:Events for digitalHUB Aachen
REFRESH-INTERVAL;VALUE=DURATION:PT1H
X-Robots-Tag:noindex
X-PUBLISHED-TTL:PT1H
BEGIN:VTIMEZONE
TZID:Europe/Berlin
BEGIN:DAYLIGHT
TZOFFSETFROM:+0100
TZOFFSETTO:+0200
TZNAME:CEST
DTSTART:20230326T010000
END:DAYLIGHT
BEGIN:STANDARD
TZOFFSETFROM:+0200
TZOFFSETTO:+0100
TZNAME:CET
DTSTART:20231029T010000
END:STANDARD
BEGIN:DAYLIGHT
TZOFFSETFROM:+0100
TZOFFSETTO:+0200
TZNAME:CEST
DTSTART:20240331T010000
END:DAYLIGHT
BEGIN:STANDARD
TZOFFSETFROM:+0200
TZOFFSETTO:+0100
TZNAME:CET
DTSTART:20241027T010000
END:STANDARD
BEGIN:DAYLIGHT
TZOFFSETFROM:+0100
TZOFFSETTO:+0200
TZNAME:CEST
DTSTART:20250330T010000
END:DAYLIGHT
BEGIN:STANDARD
TZOFFSETFROM:+0200
TZOFFSETTO:+0100
TZNAME:CET
DTSTART:20251026T010000
END:STANDARD
BEGIN:DAYLIGHT
TZOFFSETFROM:+0100
TZOFFSETTO:+0200
TZNAME:CEST
DTSTART:20260329T010000
END:DAYLIGHT
BEGIN:STANDARD
TZOFFSETFROM:+0200
TZOFFSETTO:+0100
TZNAME:CET
DTSTART:20261025T010000
END:STANDARD
END:VTIMEZONE
BEGIN:VEVENT
DTSTART;TZID=Europe/Berlin:20251204T160000
DTEND;TZID=Europe/Berlin:20251204T200000
DTSTAMP:20260423T192241
CREATED:20251030T103431Z
LAST-MODIFIED:20251030T103431Z
UID:10007487-1764864000-1764878400@www.aachen.digital
SUMMARY:DEMO DAY ZEBRA STARTUP PROGRAMME
DESCRIPTION:Sei dabei\, wenn ambitionierte GreenTech- und Impact-Startups zeigen\, wie Zukunft nachhaltig gestaltet wird.\nAm Donnerstag\, den 04.Dezember 2025\, ab 16 Uhr feiert das Startup Village Jülich den ZEBRA DEMO DAY im Startup Village Jülich – und du bist herzlich eingeladen! \n🏆 Preisverleihung:\nZum Abschluss der Programme kürt Ihre Fachjury die besten Teams – mit Preisgeldern für besondere Innovationen. \nZEBRA Publikumspreis – Deine Stimme zählt!\nDu entscheidest live vor Ort\, welches Startup den Publikumspreis gewinnt. \n  \n🎤 Bühne frei für Innovation: \nEntdecke\, wie die Teams des Startup Village mit Technologie\, Kreativität und Nachhaltigkeit Antworten auf die drängendsten Herausforderungen unserer Zeit liefern. \n🚀 Accelerator Demo Day – Batch #5 \n🗺️ Khoch3 KlimaKarten UG – Digitale Werkzeuge für kommunale Klimaanpassung – vereint Daten & Förderprogramme zu verständlichen Entscheidungsgrundlagen. \n♻️ HanRAW – Macht aus Brauerei-Abfällen kompostierbare Kunststoffe & Papier – nachhaltige Alternative zu fossilen Materialien. \n⚛️ Quicopt– Vom Quantencomputing inspirierte Optimierungssoftware für Industrie & Logistik – spart Kosten und Ressourcen. \n💧 Lobe® beauty – Nachhaltige\, wissenschaftlich fundierte Hautpflege mit Extremolyten – minimalistisch & wirksam. \n🍄 Mycovel – Wandelt industrielle Reststoffe mittels Pilzfermentation in wertvolle Rohstoffe um. \n💻 AiML Technology – Entwickelt Edge-AI-Chips für energieeffiziente\, datenschutzfreundliche KI-Anwendungen. \n🌆 4traffic SET GmbH – Smart-City-Sensorik & Dashboards für Echtzeitdaten zu Verkehr\, Lärm & Luftqualität. \n🌿 Plantforge – Modulare Indoor-Farming-Systeme für effizienten\, nachhaltigen Pflanzenanbau. \n🚚 AI2Connect GmbH – KI-Agenten für Logistik: automatisieren Rampenplanung & steigern Effizienz um 30 %. \n🔥 ThermaLogik – Sensor-Kit für Heizungen\, das Energieverbrauch sichtbar macht & Heizkosten senkt. \n  \nAußerdem präsentieren sich die Teams der Startup Village Jülich Investment Masterclass\, welche Ende November stattfindet. Kommt vorbei – erlebt\, esst und trinkt mit dem Startup Village und den Teams! \n📅 04. Dezember 2025- ab 16:00 Uhr\n📍 Startup Village Jülich \nDas Startup Village Jülich freut sich auf euch! \nAnmeldung
URL:https://www.aachen.digital/en/event/demo-day-zebra-startup-programme/
LOCATION:Startup Village Jülich\, Am Brainergy Park 1\, Jülich\, 52428\, Germany
ATTACH;FMTTYPE=image/jpeg:https://www.aachen.digital/wp-content/uploads/2025/10/Design-ohne-Titel-8.jpg
END:VEVENT
BEGIN:VEVENT
DTSTART;TZID=Europe/Berlin:20250710T160000
DTEND;TZID=Europe/Berlin:20250710T210000
DTSTAMP:20260423T192241
CREATED:20250527T102033Z
LAST-MODIFIED:20250527T102033Z
UID:10007340-1752163200-1752181200@www.aachen.digital
SUMMARY:ZEBRA Abschlussevent
DESCRIPTION:🏆 Preisverleihung:\nZum Abschluss der Programme kürt die ZEBRA Fachjury die besten Teams – mit Preisgeldern für besondere Innovationen\, zur Verfügung gestellt von der Sparkasse Düren. \nZEBRA Publikumspreis – Deine Stimme zählt! \nDu entscheidest live vor Ort\, welches Startup den Publikumspreis gewinnt. \n🎤 Bühne frei für Innovation: \nEntdecke\, wie die Teams mit Technologie\, Kreativität und Nachhaltigkeit Antworten auf die drängendsten Herausforderungen unserer Zeit liefern – von Drohnen-Energieberatung über serielle Gebäudesanierung\, Akustikpanele aus gezüchteten Pilzen\, Wildbienen-Rettern bis hin zur nachhaltigen Stadtentwicklung. \nAccelerator Batch #4 \n🌳SmartSylvan – Ki basierte mobile Pflanzenkübel kühlen Städte dort\, wo echte nicht wachsen können \n🏚️greeenNXT GmbH – Serielle Sanierung für klimaneutrale Gebäude bis 2030 \n🔬Nano Alpha – E-Waste wird durch Nanotechnologie & Bioleaching zu Ressourcen \n🍄 PottPilz – Schallschutz & Dämmung aus Pilzmyzel statt Plastik \n🍽️ Gemeinsam essen (Clara) – Smarte Küchenhilfe für gesunde Gemeinschaftsverpflegung \n🌾NatStruct AG – Naturfasern aus Agrar-Resten als biobasierte Baustoffe \n⚡Einklang New Energy – 360° Energieversorgung für KMUs mit KI und Speicherlösung \n🔌 avori | Profil von Stefanie Balzarek – Das Check24 für Ladeinfrastruktur \n🏥ZUKE Green Community GmbH – Baut eine Gemeinschaft für die nachhaltige Transformation im Gesundheitswesen \n🐝 flowbee – Gibt den Wildbienen eine Stimme und fördert die Vielfalt eine summende und blühende Zukunft der Wildbienen \n🏡cosy.green GmbH | Website– Heizungssteuerung spart 30 % Energie in Mehrfamilienhäusern \n📡Infrablick – Drohnenbasierte Wärmebild-Analyse für Gebäude zur schnellen Erkennung von Energieverlusten \nInvestment Masterclass #3 \n🍽️ frischMarie – Ready-to-Eat-Lieferdienst für ländliche Räume \n💧 Rheinkanal – Abwasserinfrastruktur als Ressource für Wärme\, Strom & Internet \n🍄 PottPilz – nachhaltige Akustikpanele aus Myzel \n📦 PALPRINT – Kreislauffähige 3D-gedruckte Verpackungen für Industrie & Logistik \n🤖 AI.Land GmbH – Roboterlösungen für Agrar & Industrie \nSpüre die Aufbruchsstimmung. Lerne Gründer:innen kennen. Stimme ab. Feiere mit. \nNachhaltigkeit ist nicht nur eine Vision – hier wird sie Realität. \n📅 10. Juli 2025- ab 16:00 Uhr \n📍 Startup Village Jülich \nJetzt zum Event anmelden
URL:https://www.aachen.digital/en/event/zebra-abschlussevent/
LOCATION:Startup Village Jülich\, Am Brainergy Park 1\, Jülich\, 52428\, Germany
ATTACH;FMTTYPE=image/png:https://www.aachen.digital/wp-content/uploads/2025/05/large_ffa42224-a4de-43c5-bbbf-eee6311f7013.png
END:VEVENT
BEGIN:VEVENT
DTSTART;TZID=Europe/Berlin:20241128T163000
DTEND;TZID=Europe/Berlin:20241128T210000
DTSTAMP:20260423T192241
CREATED:20241104T104709Z
LAST-MODIFIED:20241104T123125Z
UID:10006264-1732811400-1732827600@www.aachen.digital
SUMMARY:Abschlussevent - ZEBRA Accelerator #3 und Investment Masterclass #2
DESCRIPTION:Im September ist der ZEBRA Accelerator #3 mit 18 vielversprechenden Startups aus den Bereichen GreenTech und Impact in die neuen Runden von ZEBRA Accelerator und Investment Masterclass gestartet. Währendessen fanden spannende Workshops statt und die Gründerteams haben bereits in engem Austausch mit den Referent:innen und Mentor:innen ihr Geschäftsmodell weiterentwickelt und ausgebaut. \nBeim ZEBRA Startups Abschlussevent kommen die Startup-Teams aus Accelerator und Investment Masterclass zusammen\, um vor Investor:innen und dem Ökosystem des Startup Village ihren Fortschritt zu präsentieren\, von ihrer Vision zu überzeugen und wertvolle Kontakte zu knüpfen. \nHier kostenlos anmelden!
URL:https://www.aachen.digital/en/event/abschlussevent-zebra-accelerator-3-und-investment-masterclass-2/
LOCATION:Startup Village Jülich\, Am Brainergy Park 1\, Jülich\, 52428\, Germany
ATTACH;FMTTYPE=image/jpeg:https://www.aachen.digital/wp-content/uploads/2024/11/zebra_abschlussevent.jpg
END:VEVENT
END:VCALENDAR