BEGIN:VCALENDAR
VERSION:2.0
PRODID:-//digitalHUB Aachen - ECPv6.15.20//NONSGML v1.0//EN
CALSCALE:GREGORIAN
METHOD:PUBLISH
X-ORIGINAL-URL:https://www.aachen.digital/en/
X-WR-CALDESC:Events for digitalHUB Aachen
REFRESH-INTERVAL;VALUE=DURATION:PT1H
X-Robots-Tag:noindex
X-PUBLISHED-TTL:PT1H
BEGIN:VTIMEZONE
TZID:Europe/Berlin
BEGIN:DAYLIGHT
TZOFFSETFROM:+0100
TZOFFSETTO:+0200
TZNAME:CEST
DTSTART:20240331T010000
END:DAYLIGHT
BEGIN:STANDARD
TZOFFSETFROM:+0200
TZOFFSETTO:+0100
TZNAME:CET
DTSTART:20241027T010000
END:STANDARD
BEGIN:DAYLIGHT
TZOFFSETFROM:+0100
TZOFFSETTO:+0200
TZNAME:CEST
DTSTART:20250330T010000
END:DAYLIGHT
BEGIN:STANDARD
TZOFFSETFROM:+0200
TZOFFSETTO:+0100
TZNAME:CET
DTSTART:20251026T010000
END:STANDARD
BEGIN:DAYLIGHT
TZOFFSETFROM:+0100
TZOFFSETTO:+0200
TZNAME:CEST
DTSTART:20260329T010000
END:DAYLIGHT
BEGIN:STANDARD
TZOFFSETFROM:+0200
TZOFFSETTO:+0100
TZNAME:CET
DTSTART:20261025T010000
END:STANDARD
END:VTIMEZONE
BEGIN:VEVENT
DTSTART;TZID=Europe/Berlin:20250825T180000
DTEND;TZID=Europe/Berlin:20250825T220000
DTSTAMP:20260423T164834
CREATED:20250808T131719Z
LAST-MODIFIED:20250821T120304Z
UID:10007407-1756144800-1756159200@www.aachen.digital
SUMMARY:Founders' Roundtable
DESCRIPTION:The Founders’ Roundtable creates a relaxed atmosphere for the Aachen start-up community to exchange ideas.\n\n\nJoin the Monthly Founders’ Roundtable in Aachen! \nThe Founders’ Roundtable is a monthly gathering organized to bring Aachen’s startup community together in a relaxed and inspiring atmosphere. \nStarting at 6 PM\, we meet with the startup community of the AC.E\, Collective Incubator\, digitalHUB Aachen\, Enactus Aachen\, RWTH Innovation\, and Gründungszentrum FH Aachen to connect\, exchange ideas\, and support aspiring founders. \nAs always\, (future) founders will have the chance to pitch their ideas. After each presentation\, there will be time for discussion and feedback. If you have a great idea you’d like to share\, you’re more than welcome to join! \nYou can also present an idea spontaneously and get feedback from the community. Whether you prefer to prepare slides or go without is completely up to you! \nNot pitching? No problem! Just come by\, grab a drink and some pizza\, and enjoy an evening full of inspiring ideas and great conversations with like-minded people. \nThis month’s Founders’ Roundtable is hosted by the Gründungszentrum FH Aachen and will take place at the Startup Village Jülich. \nBe part of it! We’d love to see you there! \nSing up for free!
URL:https://www.aachen.digital/en/event/founders-roundtable-3/
LOCATION:Startup Village NRW\, Marie-Curie-Straße 4\, Jülich\, NRW\, 52428\, Germany
ATTACH;FMTTYPE=image/jpeg:https://www.aachen.digital/wp-content/uploads/2025/08/https___cdn.evbuc_.com_images_1096560173_531176030515_1_original.jpeg
END:VEVENT
BEGIN:VEVENT
DTSTART;TZID=Europe/Berlin:20250320T123000
DTEND;TZID=Europe/Berlin:20250320T143000
DTSTAMP:20260423T164834
CREATED:20250305T143019Z
LAST-MODIFIED:20250305T143019Z
UID:10007228-1742473800-1742481000@www.aachen.digital
SUMMARY:Meetup im Village März
DESCRIPTION:Einmal im Monat wollen wir unsere Community im Startup Village zusammenbringen . Dieses mal laden wir zum gemeinsamen Abendessen ein.\n\n\nMeetup im Village \nLiebe Community\, \nwir laden euch herzlich zu unserem ersten monatlichen Community- Meetup ein! Dieses Mal treffen wir uns zu einem gemeinsamen Mittagessen – eine perfekte Gelegenheit\, um mal wieder zusammen zu kommen\, sich neu kennenzulernen und sich auszutauschen. \nWir freuen uns auf euch.
URL:https://www.aachen.digital/en/event/meetup-im-village-maerz/
LOCATION:Startup Village NRW\, Marie-Curie-Straße 4\, Jülich\, NRW\, 52428\, Germany
ATTACH;FMTTYPE=image/jpeg:https://www.aachen.digital/wp-content/uploads/2025/01/d8ea565262e7174e29a88e354918303f.jpg
END:VEVENT
BEGIN:VEVENT
DTSTART;TZID=Europe/Berlin:20250311T163000
DTEND;TZID=Europe/Berlin:20250311T200000
DTSTAMP:20260423T164834
CREATED:20250127T120032Z
LAST-MODIFIED:20250127T120032Z
UID:10007192-1741710600-1741723200@www.aachen.digital
SUMMARY:GreenTech Pitch'n'Answer: Social Impact
DESCRIPTION:Pitches mit Social Impact und aktuellen Herausforderungen – helfe bei der Lösung mit und gebe dein Feedback ab!\n\n\nDas GreenTech Pitch ‘n’ Answer Format bringt die wichtigsten Akteur:innen der Szene zusammen – Startups\, etablierte Unternehmen\, Impact-Investoren und Hochschulen –\, um gemeinsam an Lösungen für aktuelle Herausforderungen zu arbeiten. \nIm Fokus steht der zentrale Themenbereich “Social Impact”. Startups haben die Möglichkeit\, ihre innovativen Ideen und eine konkrete Kernherausforderung vorzustellen. Direkt im Anschluss erhalten sie von erfahrenen Mentoren\, Branchenexpert*innen und Investoren wertvolles Feedback\, das konkrete Lösungsansätze\, Kontakte und Inspirationen für die Weiterentwicklung bietet. \nDas Ziel dieses Events ist es\, Synergien zu schaffen\, den Austausch zwischen den verschiedenen Akteurinnen zu fördern und die Entwicklung nachhaltiger soczialer Innovationen aktiv voranzutreiben. Ob als Startup mit einer großen Vision oder als Teilnehmender mit der Leidenschaft für Innovationen im Bereich Social Impact – dieses Event ist die perfekte Plattform\, um Ideen weiterzudenken\, Herausforderungen gemeinsam zu lösen und das Gründungsökosystem zu stärken. \nSei dabei und werde Teil einer Community\, die die Zukunft mit nachhaltigem sozialen Mehrwert gestalten will! \n  \nAnmeldung \n  \n  \nIm Projekt GreenTech meets NRW arbeiten wir zusammen mit Akteuren der Startup-Szene in NRW daran\, gemeinsam den Wandel in eine nachhaltigere Zukunft voranzutreiben.
URL:https://www.aachen.digital/en/event/greentech-pitchnanswer-social-impact/
LOCATION:Startup Village NRW\, Marie-Curie-Straße 4\, Jülich\, NRW\, 52428\, Germany
ATTACH;FMTTYPE=image/jpeg:https://www.aachen.digital/wp-content/uploads/2025/01/a8473916faf8600d0aa8e43cbe3faf36.jpg
END:VEVENT
BEGIN:VEVENT
DTSTART;TZID=Europe/Berlin:20250123T123000
DTEND;TZID=Europe/Berlin:20250123T133000
DTSTAMP:20260423T164834
CREATED:20250122T112156Z
LAST-MODIFIED:20250122T112156Z
UID:10007164-1737635400-1737639000@www.aachen.digital
SUMMARY:Meetup im Village - Startup Village NRW
DESCRIPTION:Einmal im Monat will das Startup Village NRW die Community im Startup Village zusammenbringen . Dieses mal laden sie zum gemeinsamen Mittagessen ein.\n\n\nMeetup im Village \nLiebe Community\, \nwir laden euch herzlich zu unserem ersten monatlichen Community- Meetup ein! Dieses Mal treffen wir uns zu einem gemeinsamen Mittagessen – eine perfekte Gelegenheit\, um mal wieder zusammen zu kommen\, sich neu kennenzulernen und sich auszutauschen. \nWir freuen uns auf euch. \n\n\nAnmeldung
URL:https://www.aachen.digital/en/event/meetup-im-village-startup-village-nrw/
LOCATION:Startup Village NRW\, Marie-Curie-Straße 4\, Jülich\, NRW\, 52428\, Germany
ATTACH;FMTTYPE=image/jpeg:https://www.aachen.digital/wp-content/uploads/2025/01/d8ea565262e7174e29a88e354918303f.jpg
END:VEVENT
END:VCALENDAR