BEGIN:VCALENDAR
VERSION:2.0
PRODID:-//digitalHUB Aachen - ECPv6.15.20//NONSGML v1.0//EN
CALSCALE:GREGORIAN
METHOD:PUBLISH
X-ORIGINAL-URL:https://www.aachen.digital/en/
X-WR-CALDESC:Events for digitalHUB Aachen
REFRESH-INTERVAL;VALUE=DURATION:PT1H
X-Robots-Tag:noindex
X-PUBLISHED-TTL:PT1H
BEGIN:VTIMEZONE
TZID:Europe/Berlin
BEGIN:DAYLIGHT
TZOFFSETFROM:+0100
TZOFFSETTO:+0200
TZNAME:CEST
DTSTART:20210328T010000
END:DAYLIGHT
BEGIN:STANDARD
TZOFFSETFROM:+0200
TZOFFSETTO:+0100
TZNAME:CET
DTSTART:20211031T010000
END:STANDARD
BEGIN:DAYLIGHT
TZOFFSETFROM:+0100
TZOFFSETTO:+0200
TZNAME:CEST
DTSTART:20220327T010000
END:DAYLIGHT
BEGIN:STANDARD
TZOFFSETFROM:+0200
TZOFFSETTO:+0100
TZNAME:CET
DTSTART:20221030T010000
END:STANDARD
BEGIN:DAYLIGHT
TZOFFSETFROM:+0100
TZOFFSETTO:+0200
TZNAME:CEST
DTSTART:20230326T010000
END:DAYLIGHT
BEGIN:STANDARD
TZOFFSETFROM:+0200
TZOFFSETTO:+0100
TZNAME:CET
DTSTART:20231029T010000
END:STANDARD
END:VTIMEZONE
BEGIN:VEVENT
DTSTART;TZID=Europe/Berlin:20220909T150000
DTEND;TZID=Europe/Berlin:20220909T193000
DTSTAMP:20260423T192313
CREATED:20220829T095650Z
LAST-MODIFIED:20230228T135347Z
UID:10006306-1662735600-1662751800@www.aachen.digital
SUMMARY:Routen der Innovation - CARE Edition
DESCRIPTION:“Wirtschaftswanderweg – Thema CARE” im Kreis Euskirchen\nZusammen wandern gehen und innovative Anwendungen im der Gesundheitsbranche entdecken. \nIn unserer Region Aachen finden wir hervorragende Innovationen\, um den notwendigen Wandel zu einer digitalen und nachhaltigen Wirtschaft und Gesellschaft schnell voranzutreiben. Mit unseren Routen der Innovation wollen wir\, die Stadt und Städteregion Aachen sowie die Kreise Düren\, Euskirchen und Heinsberg\, neue digitale Projekte\, Innovationen und innovative Orte für die Mobilitäts- und Gesundheitsversorgung der Zukunft präsentieren und erlebbar machen. \nMit dem Format „Wirtschaftswanderweg“ gehen wir buchstäblich neue Wege: Nach einer Information im Evangelischen Alten- und Pflegeheim Gemünd über Telemedizin (Projekt AIDA) findet ein Austausch zwischen innovativen Startups und etablierten Unternehmen mit den Teilnehmern während einer Wanderung von Gemünd nach Schleiden statt. Dabei können verschiedene Themen zur Gesundheitsversorgung im ländlichen Raum diskutiert werden. \nIn Schleiden angekommen\, können verbrauchte Energiereserven beim Get-together im Mayer‘s Restaurant und Café wieder aufgefüllt und begonnene Gespräche abgeschlossen werden. \nDie Veranstaltung richtet sich an Startups\, Beschäftigte in der Pflege\, Ärzte\, Unternehmen sowie Verantwortliche und Interessierte der Gesundheitsbranche. \nZUR ANMELDUNG
URL:https://www.aachen.digital/en/event/routen-der-innovation-care-edition-2/
LOCATION:Stiftung Evangelisches Alten- und Pflegeheim Gemünd\, Dürener Str. 12\, Gemünd\, 53937
ATTACH;FMTTYPE=image/jpeg:https://www.aachen.digital/wp-content/uploads/2022/08/routenderinnovation_visual_stage-1.jpg
ORGANIZER;CN="Region Aachen Zweckverband":MAILTO:info@regionaachen.de
END:VEVENT
END:VCALENDAR