BEGIN:VCALENDAR
VERSION:2.0
PRODID:-//digitalHUB Aachen - ECPv6.15.20//NONSGML v1.0//EN
CALSCALE:GREGORIAN
METHOD:PUBLISH
X-WR-CALNAME:digitalHUB Aachen
X-ORIGINAL-URL:https://www.aachen.digital/en/
X-WR-CALDESC:Events for digitalHUB Aachen
REFRESH-INTERVAL;VALUE=DURATION:PT1H
X-Robots-Tag:noindex
X-PUBLISHED-TTL:PT1H
BEGIN:VTIMEZONE
TZID:Europe/Berlin
BEGIN:DAYLIGHT
TZOFFSETFROM:+0100
TZOFFSETTO:+0200
TZNAME:CEST
DTSTART:20170326T010000
END:DAYLIGHT
BEGIN:STANDARD
TZOFFSETFROM:+0200
TZOFFSETTO:+0100
TZNAME:CET
DTSTART:20171029T010000
END:STANDARD
BEGIN:DAYLIGHT
TZOFFSETFROM:+0100
TZOFFSETTO:+0200
TZNAME:CEST
DTSTART:20180325T010000
END:DAYLIGHT
BEGIN:STANDARD
TZOFFSETFROM:+0200
TZOFFSETTO:+0100
TZNAME:CET
DTSTART:20181028T010000
END:STANDARD
BEGIN:DAYLIGHT
TZOFFSETFROM:+0100
TZOFFSETTO:+0200
TZNAME:CEST
DTSTART:20190331T010000
END:DAYLIGHT
BEGIN:STANDARD
TZOFFSETFROM:+0200
TZOFFSETTO:+0100
TZNAME:CET
DTSTART:20191027T010000
END:STANDARD
BEGIN:DAYLIGHT
TZOFFSETFROM:+0100
TZOFFSETTO:+0200
TZNAME:CEST
DTSTART:20200329T010000
END:DAYLIGHT
BEGIN:STANDARD
TZOFFSETFROM:+0200
TZOFFSETTO:+0100
TZNAME:CET
DTSTART:20201025T010000
END:STANDARD
BEGIN:DAYLIGHT
TZOFFSETFROM:+0100
TZOFFSETTO:+0200
TZNAME:CEST
DTSTART:20210328T010000
END:DAYLIGHT
BEGIN:STANDARD
TZOFFSETFROM:+0200
TZOFFSETTO:+0100
TZNAME:CET
DTSTART:20211031T010000
END:STANDARD
BEGIN:DAYLIGHT
TZOFFSETFROM:+0100
TZOFFSETTO:+0200
TZNAME:CEST
DTSTART:20220327T010000
END:DAYLIGHT
BEGIN:STANDARD
TZOFFSETFROM:+0200
TZOFFSETTO:+0100
TZNAME:CET
DTSTART:20221030T010000
END:STANDARD
BEGIN:DAYLIGHT
TZOFFSETFROM:+0100
TZOFFSETTO:+0200
TZNAME:CEST
DTSTART:20230326T010000
END:DAYLIGHT
BEGIN:STANDARD
TZOFFSETFROM:+0200
TZOFFSETTO:+0100
TZNAME:CET
DTSTART:20231029T010000
END:STANDARD
BEGIN:DAYLIGHT
TZOFFSETFROM:+0100
TZOFFSETTO:+0200
TZNAME:CEST
DTSTART:20240331T010000
END:DAYLIGHT
BEGIN:STANDARD
TZOFFSETFROM:+0200
TZOFFSETTO:+0100
TZNAME:CET
DTSTART:20241027T010000
END:STANDARD
BEGIN:DAYLIGHT
TZOFFSETFROM:+0100
TZOFFSETTO:+0200
TZNAME:CEST
DTSTART:20250330T010000
END:DAYLIGHT
BEGIN:STANDARD
TZOFFSETFROM:+0200
TZOFFSETTO:+0100
TZNAME:CET
DTSTART:20251026T010000
END:STANDARD
BEGIN:DAYLIGHT
TZOFFSETFROM:+0100
TZOFFSETTO:+0200
TZNAME:CEST
DTSTART:20260329T010000
END:DAYLIGHT
BEGIN:STANDARD
TZOFFSETFROM:+0200
TZOFFSETTO:+0100
TZNAME:CET
DTSTART:20261025T010000
END:STANDARD
END:VTIMEZONE
BEGIN:VEVENT
DTSTART;TZID=Europe/Berlin:20250625T130000
DTEND;TZID=Europe/Berlin:20250625T170000
DTSTAMP:20260423T190038
CREATED:20260122T090630Z
LAST-MODIFIED:20260122T090712Z
UID:10007668-1750856400-1750870800@www.aachen.digital
SUMMARY:Cross-Innovation Werkstatt: Mobilität im Gesundheitswesen
DESCRIPTION:Welche Mobilitätslösungen braucht das Gesundheitswesen\, das täglich unter Zeitdruck\, komplexen Abläufen und steigenden Anforderungen steht? \nIn der zweiten Runde der Cross-Innovations-Werkstätten entwickeln wir mit Euch Lösungsansätze an der Schnittstelle von Gesundheitsversorgung\, Mobilität und Nachhaltigkeit und knüpfen an die Impulse aus Runde Eins an.\nWir greifen Mobilitätsthemen auf\, die den Versorgungsalltag besonders herausfordern: schnelle und verlässliche Transporte\, reibungslose Logistik in Einrichtungen\, Mobilität für Menschen mit Einschränkungen\, Versorgung im ländlichen Raum sowie effiziente Abläufe in der ambulanten und teilstationären Pflege. \nWir bringen Fachleute aus Wissenschaft\, Versorgung\, Wirtschaft und Start-ups zusammen\, aus Bereichen wie Gesundheit\, Pflege\, Mobilität\, Logistik\, Verkehrsplanung und Softwareentwicklung. \nWas dich erwartet: \nIn dieser Werkstatt werden bestehende Ideen weiterentwickelt und neue Impulse gesetzt. Ziel ist es\, konkrete nächste Schritte abzuleiten und Anschluss an CSI-Programme\, Fördermöglichkeiten und relevanten Partnernetzwerken zu identifizieren. \nWir suchen Expert:innen\, Praktiker:innen\, Forschende aus Gesundheit\, Mobilität\, Logistik und IT. Die Teilnahme ist kostenlos. Bitte melde dich bis zum 20. Februar an. Alle weiteren Infos sind dem Einladungsflyer zu entnehmen. \nJetzt anmelden \nDas Innovationsprojekt Care for Sustainable Innovation wird im Rahmen des Förderaufrufes Regio.NRW – Transformation aus Mitteln des Europäischen Fonds für regionale Entwicklung (EFRE) und des Landes Nordrhein-Westfalen gefördert und baut auf den Ergebnissen des EFRE-Projektes Care and Mobility Innovation auf.
URL:https://www.aachen.digital/en/event/cross-innovation-werkstatt-mobilitaet-im-gesundheitswesen/
LOCATION:SuperC Aachen\, Templergraben 57\, Aachen\, NRW\, 52062\, Deutschland
ATTACH;FMTTYPE=image/jpeg:https://www.aachen.digital/wp-content/uploads/2025/06/cross-innovations-werkstatt.jpg
END:VEVENT
BEGIN:VEVENT
DTSTART;TZID=Europe/Berlin:20231215T160000
DTEND;TZID=Europe/Berlin:20231215T180000
DTSTAMP:20260423T190038
CREATED:20231130T114043Z
LAST-MODIFIED:20231130T133951Z
UID:10006643-1702656000-1702663200@www.aachen.digital
SUMMARY:AIC: Quantum Computing for AI – Hype or Hope?
DESCRIPTION:Am 15. Dezember 2023 wird Prof. Christian Bauckhage​ einen Vortrag zum Thema “Quantum Computing for AI – Hype or Hope? ” (auf Englisch) halten. \nDer Vortrag wird im SuperC\, Ford-Saal stattfinden und live übertragen. Im Anschluss an den Vortrag laden wir Sie zu einer Networking-Veranstaltung mit Getränken im Foyer ein. Der Link zur Live-Übertragung wird Ihnen nach der Registrierung zugeschickt. \nZUR ANMELDUNG
URL:https://www.aachen.digital/en/event/aic-quantum-computing-for-ai-hype-or-hope/
LOCATION:SuperC Aachen\, Templergraben 57\, Aachen\, NRW\, 52062\, Deutschland
ATTACH;FMTTYPE=image/jpeg:https://www.aachen.digital/wp-content/uploads/2023/11/Stage_quantencomputer-1632x644-1.jpg
END:VEVENT
BEGIN:VEVENT
DTSTART;TZID=Europe/Berlin:20191204T143000
DTEND;TZID=Europe/Berlin:20191204T173000
DTSTAMP:20260423T190038
CREATED:20191125T125757Z
LAST-MODIFIED:20191125T125757Z
UID:10004877-1575469800-1575480600@www.aachen.digital
SUMMARY:Mastertag der Geistes- und Sozialwissenschaften
DESCRIPTION:Infoveranstaltung für Bachelorstudierende sowie alle Interessierte.\nWer ein Masterstudium in den unten genannten Studiengängen an der RWTH Aachen fokussiert\, dem stellen sich viele Fragen: \n\nWarum sollte man ein geistes- und sozialwissenschaftliches Studium an einer technischen Hochschule studieren?\nWelche Profile haben die Studiengänge?\nWelche Karriereperspektiven bieten sich?\n\nDer Mastertag gibt einen Überblick über das Masterangebot der Geistes- und Sozialwissenschaften an der RWTH. In Vorträgen werden die Studiengänge und deren Profile vorgestellt und Themen wie Bewerbung\, Finanzierung\, Stipendien und Promotion vormittelt. Absolventinnen und Absolventen zeigen ihren Karriereweg auf und bieten Gelegenheit zum persönlichen Kontakt. An Informationsständen im Foyer besteht die Möglichkeit zur individuellen Einzelberatung. \nAuch der digitalHUB Aachen wird von Magdalena Gorecki\, Startup Coach präsentiert. \nWEITERE INFORMATIONEN & PROGRAMM
URL:https://www.aachen.digital/en/event/mastertag-der-geistes-und-sozialwissenschaften/
LOCATION:SuperC Aachen\, Templergraben 57\, Aachen\, NRW\, 52062\, Deutschland
ATTACH;FMTTYPE=image/jpeg:https://www.aachen.digital/wp-content/uploads/2019/11/mastertag-12zu5.jpg
END:VEVENT
BEGIN:VEVENT
DTSTART;TZID=Europe/Berlin:20191112T180000
DTEND;TZID=Europe/Berlin:20191112T210000
DTSTAMP:20260423T190038
CREATED:20191016T121727Z
LAST-MODIFIED:20191016T121727Z
UID:10005442-1573581600-1573592400@www.aachen.digital
SUMMARY:Rheinland-Pitch Halbfinale Aachen 2019
DESCRIPTION:Am 12. November ist es wieder soweit: Das Rheinland-Pitch Halbfinale kommt nach Aachen in die RWTH! Sei live dabei\, wenn spannende Startups aus der Region live ihre innovativen Geschäftsmodelle auf der Bühne vorstellen und um einen Platz im Rheinland-Pitch Winterfinale in Köln kämpfen. \nIngesamt erwarten dich in Aachen fünf spannende Startup-Pitches live auf der Bühne. Nachdem sich jedes Team präsentiert hat\, votet das Publikum für das beste Geschäftsmodell und den besten Pitch des Abends. Das erst- und zweitplazierte Startup qualifiziert sich dabei direkt für das Winterfinale in Köln. Dort treffen sie auf die Gewinner des Halbfinales in Düsseldorf. \nWir freuen uns auf hochinteressante Pitches und ein packendes Halbfinale in Aachen. \nJETZT TICKETS SICHERN \nDie Teilnahme ist für unsere Mitglieder kostenlos. Code erhältlich unter events@hubaachen.de.
URL:https://www.aachen.digital/en/event/rheinland-pitch-halbfinale/
LOCATION:SuperC Aachen\, Templergraben 57\, Aachen\, NRW\, 52062\, Deutschland
ATTACH;FMTTYPE=image/jpeg:https://www.aachen.digital/wp-content/uploads/2019/10/Rheinland-Pitch-Halbfinale-Aachen-2019-12zu5.jpg
ORGANIZER;CN="digitalHUB Aachen":MAILTO:kontakt@hubaachen.de
END:VEVENT
BEGIN:VEVENT
DTSTART;VALUE=DATE:20191028
DTEND;VALUE=DATE:20191029
DTSTAMP:20260423T190038
CREATED:20190228T130727Z
LAST-MODIFIED:20190924T143912Z
UID:10004963-1572220800-1572307199@www.aachen.digital
SUMMARY:atec’19 Digital Conference
DESCRIPTION:Das diesjährige Motto lautet: „Partnering via Academia: How to Connect Corporates with University Startups”. \nEs wird wieder interessante Vorträge geben\, eine Panel Discussion mit prominenten Investoren und der neue RWTH Inkubator wird vorgestellt. Passend zur Bewilligung im Rahmen des Förderprogramms “Exzellenz Start-up Center.NRW” wird darüber diskutieren\, wie das Startup-Ecosystem in Aachen weiter ausgebaut werden kann\, um etablierte Unternehmen noch besser mit Aachener Startups zu verknüpfen. \nDie atec ist eine interdisziplinäre Innovationskonferenz\, die die RWTH Innovation GmbH (ehem. Transfer- und Gründerzentrum der RWTH Aachen University) seit 2017 gemeinsam mit dem digitalHUB ausrichtet. \nFür unsere digitalHUB-Mitglieder gibt es auch dieses Jahr wieder die Möglichkeit\, kostenfrei an der Konferenz teilzunehmen. Melden Sie sich dazu gerne per events@hubaachen.de. \n  \nInformationen & Anmeldung. \nRückblick: atec’18
URL:https://www.aachen.digital/en/event/atec19-digital-conference/
LOCATION:SuperC Aachen\, Templergraben 57\, Aachen\, NRW\, 52062\, Deutschland
ATTACH;FMTTYPE=image/jpeg:https://www.aachen.digital/wp-content/uploads/2019/09/190806_Webpage_atec2019_1240x620-2.jpg-2.jpg
ORGANIZER;CN="digitalHUB Aachen":MAILTO:kontakt@hubaachen.de
END:VEVENT
BEGIN:VEVENT
DTSTART;TZID=Europe/Berlin:20190624T183000
DTEND;TZID=Europe/Berlin:20190624T200000
DTSTAMP:20260423T190038
CREATED:20190528T102426Z
LAST-MODIFIED:20190528T102426Z
UID:10005036-1561401000-1561406400@www.aachen.digital
SUMMARY:Chance oder Risiko? KI & Internationale Sicherheit
DESCRIPTION:Künstliche Intelligenz und Internationale Sicherheit: Quo vadis? \nNaturwissenschaft und Technik können auf vielfältige Art und Weise Einfluss auf internationale Sicherheit und Frieden ausüben. Die Reihe beschäftigt sich mit Künstlicher Intelligenz: Während autonome Systeme einerseits vielfältige Einsatzmöglichkeiten zum Wohle der Gesellschaft haben können\, besteht andererseits das Potenzial der Entwicklung vollautonomer Waffensysteme. Diese Veranstaltungsreihe zur Künstlichen Intelligenz beleuchtet die technischen\, wissenschaftsethischen und sicherheitspolitischen Fragen\, die sich in diesem Zusammenhang stellen. \nAn der Podiumsdiskussion nehmen teil: \n\nBotschafter Peter Beerwerth\, Ständige Vertretung\nDeutschlands bei der Abrüstungskonferenz\nDr. Ulrike Franke\, European Council on Foreign Relations\nDr. Reinhard Grünwald\, Büro für Technikfolgen-Abschätzung beim Deutschen Bundestag\nDr. Frank Sauer\, Universität der Bundeswehr München\n\nDie Moderation übernimmt Professor Malte Göttsche\, RWTH Aachen. \nWeitere Informationen
URL:https://www.aachen.digital/en/event/chance-oder-risiko-ki-internationale-sicherheit/
LOCATION:SuperC Aachen\, Templergraben 57\, Aachen\, NRW\, 52062\, Deutschland
ATTACH;FMTTYPE=image/jpeg:https://www.aachen.digital/wp-content/uploads/2019/05/KI-und-Internationale-Sicherheit.jpg
END:VEVENT
BEGIN:VEVENT
DTSTART;VALUE=DATE:20181130
DTEND;VALUE=DATE:20181201
DTSTAMP:20260423T190038
CREATED:20180821T120454Z
LAST-MODIFIED:20221213T132640Z
UID:10004641-1543536000-1543622399@www.aachen.digital
SUMMARY:atec'18 Digital Conference
DESCRIPTION:Aachen Technology and Entrepreneurship Conference ‘18: Die Konferenz für  Technology\, Innovation und Entrepreneurship rund um das Thema “AUTOMATION – WHAT IS THE NEXT BIG THING?
URL:https://www.aachen.digital/en/event/atec18-digital-conference/
LOCATION:SuperC Aachen\, Templergraben 57\, Aachen\, NRW\, 52062\, Deutschland
ATTACH;FMTTYPE=image/jpeg:https://www.aachen.digital/wp-content/uploads/2018/08/ATEC-Logo-1.jpg
ORGANIZER;CN="digitalHUB Aachen":MAILTO:kontakt@hubaachen.de
END:VEVENT
END:VCALENDAR