BEGIN:VCALENDAR
VERSION:2.0
PRODID:-//digitalHUB Aachen - ECPv6.15.20//NONSGML v1.0//EN
CALSCALE:GREGORIAN
METHOD:PUBLISH
X-WR-CALNAME:digitalHUB Aachen
X-ORIGINAL-URL:https://www.aachen.digital/en/
X-WR-CALDESC:Events for digitalHUB Aachen
REFRESH-INTERVAL;VALUE=DURATION:PT1H
X-Robots-Tag:noindex
X-PUBLISHED-TTL:PT1H
BEGIN:VTIMEZONE
TZID:Europe/Berlin
BEGIN:DAYLIGHT
TZOFFSETFROM:+0100
TZOFFSETTO:+0200
TZNAME:CEST
DTSTART:20190331T010000
END:DAYLIGHT
BEGIN:STANDARD
TZOFFSETFROM:+0200
TZOFFSETTO:+0100
TZNAME:CET
DTSTART:20191027T010000
END:STANDARD
BEGIN:DAYLIGHT
TZOFFSETFROM:+0100
TZOFFSETTO:+0200
TZNAME:CEST
DTSTART:20200329T010000
END:DAYLIGHT
BEGIN:STANDARD
TZOFFSETFROM:+0200
TZOFFSETTO:+0100
TZNAME:CET
DTSTART:20201025T010000
END:STANDARD
BEGIN:DAYLIGHT
TZOFFSETFROM:+0100
TZOFFSETTO:+0200
TZNAME:CEST
DTSTART:20210328T010000
END:DAYLIGHT
BEGIN:STANDARD
TZOFFSETFROM:+0200
TZOFFSETTO:+0100
TZNAME:CET
DTSTART:20211031T010000
END:STANDARD
END:VTIMEZONE
BEGIN:VEVENT
DTSTART;TZID=Europe/Berlin:20200219T140000
DTEND;TZID=Europe/Berlin:20200220T230000
DTSTAMP:20260423T235833
CREATED:20191105T122956Z
LAST-MODIFIED:20191209T102051Z
UID:10004865-1582120800-1582239600@www.aachen.digital
SUMMARY:Jeck'n'Tech
DESCRIPTION:After the start of the conference in 2019\, we’re going into round two in 2020! \nFor our first edition in 2019\, 120 handpicked high-level startup founders\, investors and corporate executives cam together in the middle of the old town during Cologne’s “fifth season”.\nIt was a “superjeile Zick”! \nThis time extended to two days\, with more options for networking\, a significantly larger number of participants and the extension to general topics of innovation and digitalisation. \n\n300 – 500 attendees\nTarget groups: Digital Professionals\, Founders & Entrepreneurs\, Investors\nStage programme: keynotes\, interviews\, case studies & pitch competition\nSmall group formats: Discussion Tables & Masterclasses\nNetworking & Business Speed Dating\nFusion of tradition of Carnival & Business Conference\n\nMORE INFORMATION & TICKETS HERE
URL:https://www.aachen.digital/en/event/jeckntech/
LOCATION:TBA\, Köln\, Deutschland
ATTACH;FMTTYPE=image/jpeg:https://www.aachen.digital/wp-content/uploads/2019/11/jeckntech-12zu5-1.jpg
END:VEVENT
END:VCALENDAR