BEGIN:VCALENDAR
VERSION:2.0
PRODID:-//digitalHUB Aachen - ECPv6.15.20//NONSGML v1.0//EN
CALSCALE:GREGORIAN
METHOD:PUBLISH
X-ORIGINAL-URL:https://www.aachen.digital/en/
X-WR-CALDESC:Events for digitalHUB Aachen
REFRESH-INTERVAL;VALUE=DURATION:PT1H
X-Robots-Tag:noindex
X-PUBLISHED-TTL:PT1H
BEGIN:VTIMEZONE
TZID:Europe/Berlin
BEGIN:DAYLIGHT
TZOFFSETFROM:+0100
TZOFFSETTO:+0200
TZNAME:CEST
DTSTART:20220327T010000
END:DAYLIGHT
BEGIN:STANDARD
TZOFFSETFROM:+0200
TZOFFSETTO:+0100
TZNAME:CET
DTSTART:20221030T010000
END:STANDARD
BEGIN:DAYLIGHT
TZOFFSETFROM:+0100
TZOFFSETTO:+0200
TZNAME:CEST
DTSTART:20230326T010000
END:DAYLIGHT
BEGIN:STANDARD
TZOFFSETFROM:+0200
TZOFFSETTO:+0100
TZNAME:CET
DTSTART:20231029T010000
END:STANDARD
BEGIN:DAYLIGHT
TZOFFSETFROM:+0100
TZOFFSETTO:+0200
TZNAME:CEST
DTSTART:20240331T010000
END:DAYLIGHT
BEGIN:STANDARD
TZOFFSETFROM:+0200
TZOFFSETTO:+0100
TZNAME:CET
DTSTART:20241027T010000
END:STANDARD
END:VTIMEZONE
BEGIN:VEVENT
DTSTART;TZID=Europe/Berlin:20230209T100000
DTEND;TZID=Europe/Berlin:20230209T120000
DTSTAMP:20260423T202435
CREATED:20230109T091355Z
LAST-MODIFIED:20230109T091355Z
UID:10006390-1675936800-1675944000@www.aachen.digital
SUMMARY:Ignition Start-up Breakfast #41
DESCRIPTION:Du fragst dich\, wie das Marketing der Zukunft aussieht? Welche neuen Ansätze gut funktionieren? Und wie sich das Marketing\, gerade im agilen Start-up Umfeld\, verändert? \nDann komm zu unserem gemeinsamen Frühstück im TechHub.K67. Dort geben wir spannende Einblicke zum Thema „New Content\, New Marketing” mit Impulsvorträgen unserer Partner:innen und Start-up Pitches. Natürlich gibt es im Anschluss auch noch Zeit für Diskussionen und Netzwerkmöglichkeiten. \nWas erwartet dich? \nLerne das Düsseldorfer Start-up Ökosystem kennen und steige gemeinsam mit uns und unseren Partner:innen tiefer in die Materie ein. Im Anschluss an die Vorträge & Pitches kannst du den Expert:innen & Gründer:innen direkt Fragen stellen und Feedback geben. Sie freuen sich auf den Austausch mit dir! \nZUR ANMELDUNG
URL:https://www.aachen.digital/en/event/ignition-start-up-breakfast-41/
LOCATION:TechHub.K67\, Kasernenstraße 67\, Düsseldorf
ATTACH;FMTTYPE=image/jpeg:https://www.aachen.digital/wp-content/uploads/2023/01/IGNITIONStartupBreakfast_stage.jpg
ORGANIZER;CN="digihub D%C3%BCsseldorf Rheinland":MAILTO:info@digihub.de
END:VEVENT
END:VCALENDAR