BEGIN:VCALENDAR
VERSION:2.0
PRODID:-//digitalHUB Aachen - ECPv6.15.20//NONSGML v1.0//EN
CALSCALE:GREGORIAN
METHOD:PUBLISH
X-WR-CALNAME:digitalHUB Aachen
X-ORIGINAL-URL:https://www.aachen.digital/en/
X-WR-CALDESC:Events for digitalHUB Aachen
REFRESH-INTERVAL;VALUE=DURATION:PT1H
X-Robots-Tag:noindex
X-PUBLISHED-TTL:PT1H
BEGIN:VTIMEZONE
TZID:Europe/Berlin
BEGIN:DAYLIGHT
TZOFFSETFROM:+0100
TZOFFSETTO:+0200
TZNAME:CEST
DTSTART:20180325T010000
END:DAYLIGHT
BEGIN:STANDARD
TZOFFSETFROM:+0200
TZOFFSETTO:+0100
TZNAME:CET
DTSTART:20181028T010000
END:STANDARD
BEGIN:DAYLIGHT
TZOFFSETFROM:+0100
TZOFFSETTO:+0200
TZNAME:CEST
DTSTART:20190331T010000
END:DAYLIGHT
BEGIN:STANDARD
TZOFFSETFROM:+0200
TZOFFSETTO:+0100
TZNAME:CET
DTSTART:20191027T010000
END:STANDARD
BEGIN:DAYLIGHT
TZOFFSETFROM:+0100
TZOFFSETTO:+0200
TZNAME:CEST
DTSTART:20200329T010000
END:DAYLIGHT
BEGIN:STANDARD
TZOFFSETFROM:+0200
TZOFFSETTO:+0100
TZNAME:CET
DTSTART:20201025T010000
END:STANDARD
BEGIN:DAYLIGHT
TZOFFSETFROM:+0100
TZOFFSETTO:+0200
TZNAME:CEST
DTSTART:20210328T010000
END:DAYLIGHT
BEGIN:STANDARD
TZOFFSETFROM:+0200
TZOFFSETTO:+0100
TZNAME:CET
DTSTART:20211031T010000
END:STANDARD
BEGIN:DAYLIGHT
TZOFFSETFROM:+0100
TZOFFSETTO:+0200
TZNAME:CEST
DTSTART:20220327T010000
END:DAYLIGHT
BEGIN:STANDARD
TZOFFSETFROM:+0200
TZOFFSETTO:+0100
TZNAME:CET
DTSTART:20221030T010000
END:STANDARD
BEGIN:DAYLIGHT
TZOFFSETFROM:+0100
TZOFFSETTO:+0200
TZNAME:CEST
DTSTART:20230326T010000
END:DAYLIGHT
BEGIN:STANDARD
TZOFFSETFROM:+0200
TZOFFSETTO:+0100
TZNAME:CET
DTSTART:20231029T010000
END:STANDARD
BEGIN:DAYLIGHT
TZOFFSETFROM:+0100
TZOFFSETTO:+0200
TZNAME:CEST
DTSTART:20240331T010000
END:DAYLIGHT
BEGIN:STANDARD
TZOFFSETFROM:+0200
TZOFFSETTO:+0100
TZNAME:CET
DTSTART:20241027T010000
END:STANDARD
END:VTIMEZONE
BEGIN:VEVENT
DTSTART;TZID=Europe/Berlin:20230316T090000
DTEND;TZID=Europe/Berlin:20230316T103000
DTSTAMP:20260423T203823
CREATED:20230302T094838Z
LAST-MODIFIED:20230302T132923Z
UID:10006427-1678957200-1678962600@www.aachen.digital
SUMMARY:Plakat sucht Personal – Talente Out of Home finden
DESCRIPTION:Save the Date – Plakat sucht Personal\nAm Donnerstag\, den 16.03.2023 gibt es wieder einen ebenso unterhaltsamen wie spannenden karriere.ac Workshop in der TEMA Pyramid. Unter dem Titel „Plakat sucht Personal – Talente Out of Home finden” zeigt Philipp Kremers\, Sales Manager bei WallDecaux\, die Möglichkeiten (digitaler) Außenwerbung bei der Personalsuche auf. Die Teilnahme ist kostenlos\, aber bestimmt nicht umsonst! Hier geht’s zur Anmeldung. \nRecruitment-Booster Out of Home\nWie Außenwerbemedien HR-Kampagnen beflügeln.\nRecruitment-Kampagnen müssen heutzutage neue Wege gehen. Mit dem schnellen und lokal präzisen Reichweitenaufbau von Außenwerbemedien steht ein effektiver Weg bereit\, um Stellen zu besetzen und Brandingeffekte zu generieren\, die Unternehmen als attraktive Arbeitgeber in Szene setzen. Philipp Krämmers gibt einen kompakten und anschaulichen Überblick über die Möglichkeiten\, die (Digital) Out of Home in diesem Bereich bietet. \nIm Anschluss gibt es eine kleine Stärkung – bei belegten Frühstücksbrötchen kann man gut netzwerken. \nAnmeldungen bitte bis Freitag\, den 10.03.2023. \nDie Workshop-Reihe bietet spannende Themen und Best Practises\, die nützliche Tipps und Tricks an die Hand geben. In loser zeitlicher Abfolge gibt es zudem die „karriere.ac-Breakfast-Workshops“. \nZUR ANMELDUNG
URL:https://www.aachen.digital/en/event/plakat-sucht-personal-talente-out-of-home-finden/
LOCATION:TEMA Technologie Marketing AG\, Aachener-und-Münchener-Allee 9\, Aachen\, 52074
ATTACH;FMTTYPE=image/png:https://www.aachen.digital/wp-content/uploads/2023/03/ac²-stage.png
END:VEVENT
BEGIN:VEVENT
DTSTART;TZID=Europe/Berlin:20221124T090000
DTEND;TZID=Europe/Berlin:20221124T103000
DTSTAMP:20260423T203823
CREATED:20221116T092646Z
LAST-MODIFIED:20221116T092804Z
UID:10006350-1669280400-1669285800@www.aachen.digital
SUMMARY:Next Generation Recruiting Workshop
DESCRIPTION:Der nächste karriere.ac-Workshop findet mit Rica Reinisch statt\, Co-Founderin von „Absolventinnen Consulting“\, Führungskräftetrainerin und mehrfache Olympiasiegerin. „Absolventinnen Consulting“ entwickelte das 3P-Prinzip zur beruflichen Orientierung und Stabilisierung u. a. für Unternehmen für den Recruiting-/Onboarding- und Incoming-Prozess. Beginne mit dem Recruiting da\, wo das Mindset für den Job gebildet wird. Stabilisiere die Arbeitgeberentscheidung Deiner Azubis und neuen Mitarbeiter/innen im Onboarding- und Incoming-Prozess. \nZeige Deine Stärken als Arbeitgeber! \nIn kurzweiligen 45 Minuten bietet der Workshop euch spannende Insights an zum\nUmdenken beim Recruiting- und Onboarding-Prozess! \nIm Anschluss gibt es eine kleine Stärkung – bei belegten Frühstücksbrötchen kann man gut netzwerken. Seid dabei! \nWir freuen uns über Eure Zusagen\, gern in Begleitung\, und bitten Euch um Eure Anmeldung bis Montag\, den 22.11.2022. \nZUR ANMELDUNG
URL:https://www.aachen.digital/en/event/next-generation-recruiting-workshop/
LOCATION:TEMA Technologie Marketing AG\, Aachener-und-Münchener-Allee 9\, Aachen\, 52074
ATTACH;FMTTYPE=image/jpeg:https://www.aachen.digital/wp-content/uploads/2022/11/karriere.acworkshop_stage.jpg
END:VEVENT
BEGIN:VEVENT
DTSTART;TZID=Europe/Berlin:20220920T160000
DTEND;TZID=Europe/Berlin:20220920T180000
DTSTAMP:20260423T203823
CREATED:20220815T080400Z
LAST-MODIFIED:20220815T080400Z
UID:10006287-1663689600-1663696800@www.aachen.digital
SUMMARY:Arbeitsschutz ganz einfach
DESCRIPTION:Arbeitsschutz ist ein komplexes Thema und viele Mitarbeitende sind sich der Risiken bei Arbeiten in großer Höhe oder mit gefährlichen Stoffen nicht bewusst. Noch viel weniger wissen sie\, wie sie sich und andere vor diesen Risiken schützen können und sich in Gefahrensituationen richtig verhalten sollen. Richtiges Verhalten kann man trainieren\, und besonders gut geht das in virtuellen Räumen. \nWie das funktioniert und welche Vorteile das hat erfahren die Teilnehmenden beim After-Work-Seminar “VR im Arbeitsschutz” bei der TEMA Technologie Marketing AG in der Aachener-und-Münchener-Allee 9 in Aachen. Die Teilnahme am Seminar ist kostenlos. Unter dem nachfolgenden Link finden Sie weitere Infos oder können sich dort auch direkt zum Event anmelden: \nZUR ANMELDUNG
URL:https://www.aachen.digital/en/event/arbeitsschutz-ganz-einfach/
LOCATION:TEMA Technologie Marketing AG\, Aachener-und-Münchener-Allee 9\, Aachen\, 52074
ATTACH;FMTTYPE=image/jpeg:https://www.aachen.digital/wp-content/uploads/2022/08/VRimArbeitsschutz_stage1.jpg
END:VEVENT
BEGIN:VEVENT
DTSTART;TZID=Europe/Berlin:20220908T090000
DTEND;TZID=Europe/Berlin:20220908T103000
DTSTAMP:20260423T203823
CREATED:20220808T075012Z
LAST-MODIFIED:20220808T075012Z
UID:10006284-1662627600-1662633000@www.aachen.digital
SUMMARY:TikTok: Wie Sie diesen Kanal für Ihr Recruiting nutzen.
DESCRIPTION:In kurzweiligen 45 Minuten bietet unser Mitglied TEMA AG Ihnen spannende Insights an zum Thema TikTok und wie Sie diesen Kanal optimal für Ihr Recruiting nutzen können. Im Anschluss gibt es eine kleine Stärkung – bei belegten Frühstücksbrötchen kann man gut netzwerken. \nBenötigen Sie mehr Recruiting für Ihr Unternehmen? Dann melden Sie sich für die diesjährige Nacht der Unternehmen am 25. Oktober an.\nMehr Infos finden Sie hier. \nDiese Workshop-Reihe bietet Ihnen spannende Themen und Best Practises\, die Ihnen nützliche Tipps und Tricks an die Hand geben. In loser zeitlicher Abfolge gibt es zudem unsere „karriere.ac-Breakfast-Workshops“. \nSeien Sie mit dabei\, gerne in Begleitung! Anmeldeschluss ist Montag\, der 05.09.2022! \nZUR ANMELDUNG
URL:https://www.aachen.digital/en/event/tiktok-wie-sie-diesen-kanal-fuer-ihr-recruiting-nutzen/
LOCATION:TEMA Technologie Marketing AG\, Aachener-und-Münchener-Allee 9\, Aachen\, 52074
ATTACH;FMTTYPE=image/jpeg:https://www.aachen.digital/wp-content/uploads/2022/07/AdobeStock_214455476-12_6-scaled.jpeg
END:VEVENT
BEGIN:VEVENT
DTSTART;VALUE=DATE:20190516
DTEND;VALUE=DATE:20190517
DTSTAMP:20260423T203823
CREATED:20190321T132853Z
LAST-MODIFIED:20190321T133703Z
UID:10004754-1557964800-1558051199@www.aachen.digital
SUMMARY:Digital Jobzone 2019: der innovative Weg zum neuen Arbeitsplatz
DESCRIPTION:
URL:https://www.aachen.digital/en/event/digital-jobzone-2019-der-innovative-weg-zum-neuen-arbeitsplat/
LOCATION:TEMA Technologie Marketing AG\, Aachener-und-Münchener-Allee 9\, Aachen\, 52074
ATTACH;FMTTYPE=image/png:https://www.aachen.digital/wp-content/uploads/2019/03/Tema.png
END:VEVENT
END:VCALENDAR