BEGIN:VCALENDAR
VERSION:2.0
PRODID:-//digitalHUB Aachen - ECPv6.15.20//NONSGML v1.0//EN
CALSCALE:GREGORIAN
METHOD:PUBLISH
X-WR-CALNAME:digitalHUB Aachen
X-ORIGINAL-URL:https://www.aachen.digital/en/
X-WR-CALDESC:Events for digitalHUB Aachen
REFRESH-INTERVAL;VALUE=DURATION:PT1H
X-Robots-Tag:noindex
X-PUBLISHED-TTL:PT1H
BEGIN:VTIMEZONE
TZID:Europe/Berlin
BEGIN:DAYLIGHT
TZOFFSETFROM:+0100
TZOFFSETTO:+0200
TZNAME:CEST
DTSTART:20240331T010000
END:DAYLIGHT
BEGIN:STANDARD
TZOFFSETFROM:+0200
TZOFFSETTO:+0100
TZNAME:CET
DTSTART:20241027T010000
END:STANDARD
BEGIN:DAYLIGHT
TZOFFSETFROM:+0100
TZOFFSETTO:+0200
TZNAME:CEST
DTSTART:20250330T010000
END:DAYLIGHT
BEGIN:STANDARD
TZOFFSETFROM:+0200
TZOFFSETTO:+0100
TZNAME:CET
DTSTART:20251026T010000
END:STANDARD
BEGIN:DAYLIGHT
TZOFFSETFROM:+0100
TZOFFSETTO:+0200
TZNAME:CEST
DTSTART:20260329T010000
END:DAYLIGHT
BEGIN:STANDARD
TZOFFSETFROM:+0200
TZOFFSETTO:+0100
TZNAME:CET
DTSTART:20261025T010000
END:STANDARD
END:VTIMEZONE
BEGIN:VEVENT
DTSTART;TZID=Europe/Berlin:20250925T140000
DTEND;TZID=Europe/Berlin:20250925T190000
DTSTAMP:20260423T202720
CREATED:20250610T153613Z
LAST-MODIFIED:20250922T075309Z
UID:10007348-1758808800-1758826800@www.aachen.digital
SUMMARY:Innovationskonferenz Care for Sustainable Innovation
DESCRIPTION:Zukunft beginnt jetzt:\nKI in der Gesundheitswirtschaft\n25. September 2025 | 14 – 19 Uhr\nTivoli Aachen \nWie kann Künstliche Intelligenz helfen\, die Gesundheitsversorgung nachhaltiger\, effizienter und menschlicher zu gestalten? Welche Potenziale birgt KI für Kliniken\, Pflege\, Forschung und Wirtschaft – speziell in der Region Aachen? Die erste Innovationskonferenz bringt Pionier:innen\, Vordenker:innen und Entscheider:innen aus Medizin\, Technologie\, Wissenschaft und Politik zusammen. \nIm Fokus: Ideen\, Impulse und Innovationen\, die den Gesundheitsstandort Region Aachen zukunftssicher machen. Sei dabei\, wenn Visionen Realität werden – für eine digitale und nachhaltige Gesundheitswirtschaft von morgen. \nProgramm-Highlights der Innovationskonferenz 2025 \n\nKeynotes zu Künstlicher Intelligenz in der Medizin\nStartup-Pitches und Science Slam\nWorkshops zu KI-Anwendungen in Klinik\, Praxis\, Pflege und Diagnostik\nMini-Talks zu Zukunftsthemen wie der „AI Factory für die Gesundheitswirtschaft“\nAusstellung und Networking\n\n  \nANMELDUNG \nProjektseite: care4innovation.de
URL:https://www.aachen.digital/en/event/innovationskonferenz-care-for-sustainable-innovation/
LOCATION:Tivoli\, Krefelder Str. 205\, Aachen\, 52070\, Deutschland
ATTACH;FMTTYPE=image/jpeg:https://www.aachen.digital/wp-content/uploads/2025/06/innovationskonferenz-csi.jpg
END:VEVENT
END:VCALENDAR