BEGIN:VCALENDAR
VERSION:2.0
PRODID:-//digitalHUB Aachen - ECPv6.15.20//NONSGML v1.0//EN
CALSCALE:GREGORIAN
METHOD:PUBLISH
X-WR-CALNAME:digitalHUB Aachen
X-ORIGINAL-URL:https://www.aachen.digital/en/
X-WR-CALDESC:Events for digitalHUB Aachen
REFRESH-INTERVAL;VALUE=DURATION:PT1H
X-Robots-Tag:noindex
X-PUBLISHED-TTL:PT1H
BEGIN:VTIMEZONE
TZID:Europe/Berlin
BEGIN:DAYLIGHT
TZOFFSETFROM:+0100
TZOFFSETTO:+0200
TZNAME:CEST
DTSTART:20250330T010000
END:DAYLIGHT
BEGIN:STANDARD
TZOFFSETFROM:+0200
TZOFFSETTO:+0100
TZNAME:CET
DTSTART:20251026T010000
END:STANDARD
BEGIN:DAYLIGHT
TZOFFSETFROM:+0100
TZOFFSETTO:+0200
TZNAME:CEST
DTSTART:20260329T010000
END:DAYLIGHT
BEGIN:STANDARD
TZOFFSETFROM:+0200
TZOFFSETTO:+0100
TZNAME:CET
DTSTART:20261025T010000
END:STANDARD
BEGIN:DAYLIGHT
TZOFFSETFROM:+0100
TZOFFSETTO:+0200
TZNAME:CEST
DTSTART:20270328T010000
END:DAYLIGHT
BEGIN:STANDARD
TZOFFSETFROM:+0200
TZOFFSETTO:+0100
TZNAME:CET
DTSTART:20271031T010000
END:STANDARD
END:VTIMEZONE
BEGIN:VEVENT
DTSTART;TZID=Europe/Berlin:20260512T170000
DTEND;TZID=Europe/Berlin:20260512T203000
DTSTAMP:20260423T162840
CREATED:20260219T090802Z
LAST-MODIFIED:20260219T101049Z
UID:10007683-1778605200-1778617800@www.aachen.digital
SUMMARY:Nacht der Unternehmen
DESCRIPTION:Die „Nacht der Unternehmen“ (NdU) bietet euch eine besondere Plattform\, um gezielt mit potenziellen neuen Mitarbeitenden und Auszubildenden aus der Region in Kontakt zu kommen. Ziel des Karriereevents ist es\, direkte Gespräche zu ermöglichen\, berufliche Perspektiven aufzuzeigen und gemeinsam den Fachkräftenachwuchs für die Region zu begeistern – persönlich\, effizient und auf Augenhöhe. \nEuch erwarten motivierte Besucher:innen\, darunter Young Professionals\, Fachkräfte\, Hochschulabsolvent*innen\, Studierende\, Berufseinsteiger:innen sowie Schüler:innen\, Abiturient:innen und Azubis. Die Messe spricht gezielt Menschen an\, die aktiv auf der Suche nach konkreten Einstiegs-\, Ausbildungs- oder Karrieremöglichkeiten sind. \nWas die „Nacht der Unternehmen“ besonders macht\, ist ihr klarer\, komprimierter Charakter: Die Messe dauert nur wenige Stunden – genau das sorgt für eine hohe Gesprächsdichte und intensive Kontakte. Durch den Abendtermin entsteht eine lockere\, wertschätzende Atmosphäre fernab klassischer Messesituationen. Optional ist eine direkte Einbindung in das eigene Unternehmen per Bustour möglich. \nZUR ANMELDUNG FÜR TEILNEHMER:INNEN \nFür die Teilnahme stehen verschiedene Ausstellerpakete zur Verfügung: \n• Hot-Spot: Klassischer Besprechungsstand im Messebereich inkl. Jobwall-Eintrag und Catering \n• Hot-Spot & Shuttle: Kombination aus Messestand und Einbindung in die Bustouren \n• Hot-Spot Duo: Teilnahme an beiden Terminen zu vergünstigten Konditionen \n• Start-up Spot: Kompakter\, kostengünstiger Stand speziell für junge Unternehmen \nAlle Pakete sind modular erweiterbar und bieten eine professionelle\, zugleich unkomplizierte Präsentation des Unternehmens als Arbeitgeber. \nZUR ANMELDUNG FÜR AUSSTELLER
URL:https://www.aachen.digital/en/event/nacht-der-unternehmen-fachkraefte-gewinnen-nachwuchs-sichern/
LOCATION:TZA Technologiezentrum Aachen\, Dennewartstr. 25-27\, Aachen\, 52068\, Deutschland
ATTACH;FMTTYPE=image/jpeg:https://www.aachen.digital/wp-content/uploads/2026/02/5f510b29-75fa-43fa-bdac-744aa63a52ad.jpeg
END:VEVENT
BEGIN:VEVENT
DTSTART;TZID=Europe/Berlin:20261020T170000
DTEND;TZID=Europe/Berlin:20261020T203000
DTSTAMP:20260423T162840
CREATED:20260219T091424Z
LAST-MODIFIED:20260219T101018Z
UID:10007684-1792515600-1792528200@www.aachen.digital
SUMMARY:Nacht der Unternehmen
DESCRIPTION:Die „Nacht der Unternehmen“ (NdU) bietet euch eine besondere Plattform\, um gezielt mit potenziellen neuen Mitarbeitenden und Auszubildenden aus der Region in Kontakt zu kommen. Ziel des Karriereevents ist es\, direkte Gespräche zu ermöglichen\, berufliche Perspektiven aufzuzeigen und gemeinsam den Fachkräftenachwuchs für die Region zu begeistern – persönlich\, effizient und auf Augenhöhe. \nEuch erwarten motivierte Besucher:innen\, darunter Young Professionals\, Fachkräfte\, Hochschulabsolvent*innen\, Studierende\, Berufseinsteiger:innen sowie Schüler:innen\, Abiturient:innen und Azubis. Die Messe spricht gezielt Menschen an\, die aktiv auf der Suche nach konkreten Einstiegs-\, Ausbildungs- oder Karrieremöglichkeiten sind. \nWas die „Nacht der Unternehmen“ besonders macht\, ist ihr klarer\, komprimierter Charakter: Die Messe dauert nur wenige Stunden – genau das sorgt für eine hohe Gesprächsdichte und intensive Kontakte. Durch den Abendtermin entsteht eine lockere\, wertschätzende Atmosphäre fernab klassischer Messesituationen. Optional ist eine direkte Einbindung in das eigene Unternehmen per Bustour möglich. \nZUR ANMELDUNG FÜR TEILNEHEMER:INNEN \nFür die Teilnahme stehen verschiedene Ausstellerpakete zur Verfügung: \n• Hot-Spot: Klassischer Besprechungsstand im Messebereich inkl. Jobwall-Eintrag und Catering \n• Hot-Spot & Shuttle: Kombination aus Messestand und Einbindung in die Bustouren \n• Hot-Spot Duo: Teilnahme an beiden Terminen zu vergünstigten Konditionen \n• Start-up Spot: Kompakter\, kostengünstiger Stand speziell für junge Unternehmen \nAlle Pakete sind modular erweiterbar und bieten eine professionelle\, zugleich unkomplizierte Präsentation des Unternehmens als Arbeitgeber. \nZUR ANMELDUNG FÜR AUSSTELLER
URL:https://www.aachen.digital/en/event/nacht-der-unternehmen-fachkraefte-gewinnen-nachwuchs-sichern-2/
LOCATION:TZA Technologiezentrum Aachen\, Dennewartstr. 25-27\, Aachen\, 52068\, Deutschland
ATTACH;FMTTYPE=image/webp:https://www.aachen.digital/wp-content/uploads/2026/02/Nacht-der-Unternehmen.webp
END:VEVENT
END:VCALENDAR