BEGIN:VCALENDAR
VERSION:2.0
PRODID:-//digitalHUB Aachen - ECPv6.15.20//NONSGML v1.0//EN
CALSCALE:GREGORIAN
METHOD:PUBLISH
X-WR-CALNAME:digitalHUB Aachen
X-ORIGINAL-URL:https://www.aachen.digital/en/
X-WR-CALDESC:Events for digitalHUB Aachen
REFRESH-INTERVAL;VALUE=DURATION:PT1H
X-Robots-Tag:noindex
X-PUBLISHED-TTL:PT1H
BEGIN:VTIMEZONE
TZID:Europe/Berlin
BEGIN:DAYLIGHT
TZOFFSETFROM:+0100
TZOFFSETTO:+0200
TZNAME:CEST
DTSTART:20240331T010000
END:DAYLIGHT
BEGIN:STANDARD
TZOFFSETFROM:+0200
TZOFFSETTO:+0100
TZNAME:CET
DTSTART:20241027T010000
END:STANDARD
BEGIN:DAYLIGHT
TZOFFSETFROM:+0100
TZOFFSETTO:+0200
TZNAME:CEST
DTSTART:20250330T010000
END:DAYLIGHT
BEGIN:STANDARD
TZOFFSETFROM:+0200
TZOFFSETTO:+0100
TZNAME:CET
DTSTART:20251026T010000
END:STANDARD
BEGIN:DAYLIGHT
TZOFFSETFROM:+0100
TZOFFSETTO:+0200
TZNAME:CEST
DTSTART:20260329T010000
END:DAYLIGHT
BEGIN:STANDARD
TZOFFSETFROM:+0200
TZOFFSETTO:+0100
TZNAME:CET
DTSTART:20261025T010000
END:STANDARD
END:VTIMEZONE
BEGIN:VEVENT
DTSTART;TZID=Europe/Berlin:20251217T130000
DTEND;TZID=Europe/Berlin:20251217T163000
DTSTAMP:20260423T201553
CREATED:20251113T101416Z
LAST-MODIFIED:20251113T101416Z
UID:10007534-1765976400-1765989000@www.aachen.digital
SUMMARY:Forum Nachhaltigkeit in Pflege und Gesundheit
DESCRIPTION:Mobilitätskonzepte für Mitarbeitende\, Patient*innen\, Bewohner*innen und Besuch — Inspiration und Innovation für eine nachhaltige Zukunft \nIm Rahmen des Projekts CSI – Care for Sustainable Innovation lädt der CSI herzlich ein zum Forum Nachhaltigkeit in Pflege und Gesundheit am 17. Dezember – einer Veranstaltungsreihe\, die sich gezielt an alle richtet\, die nachhaltige Lösungen in Krankenhäusern und stationären Pflegeeinrichtungen voranbringen wollen. \nGemeinsam für eine grünere Gesundheitsversorgung \nZiel der Foren ist es\, Menschen aus der Praxis\, der Forschung und der Entwicklung zusammenzubringen: Pflegekräfte\, Klinikverantwortliche\, Techniker*innen\, Nachhaltigkeitsbeauftragte sowie Anbieter*innen und Entwickler*innen nachhaltiger Technologien. Der Fokus liegt auf dem Austausch über Klimaschutz\, Kreislaufwirtschaft und Energieeffizienz – mit dem Ziel\, voneinander zu lernen und gemeinsam neue Wege zu beschreiten. \nWas erwartet Sie? \nBegrüßung und Eröffnung mit Imbiss \nImpulsvorträge: Mobilität im Klinikalltag – Herausforderungen und Lösungswege Mobilitätskonzept des Universitätsklinikums Aachen – Strukturen und Besonderheiten eines Standorts am Stadtrand im Dreiländereck\nMelanie Wiemuth\, Referentin Nachhaltigkeit und Manfred Rothärmel\, Mobilitätsbeauftragter \nMobilität am Universitätsklinikum Bonn – Erfahrungen aus einer Uniklinik im Wohngebiet\nMichael Schmitz\, Stabsstelle Nachhaltigkeit Mobilitätslösungen \nMobility-Hub-Konzepte und mehr\nMarcel Philipp\, e.Mobility.Hub GmbH \nAustausch in moderierten Kleingruppen zu den Gestaltungsfeldern der Mobilität \nFeedback & Verabschiedung\nRalf Schimweg\, Projektlead „Foren Nachhaltigkeit in Pflege und Gesundheit“ \nJetzt mitdenken\, mitdiskutieren\, mitgestalten! \nWann? 17. Dezember 2025\, 13:00 – 16:30 Uhr \nWo? Uniklinik RWTH Aachen\, Pauwelsstraße 30\, 52074 Aachen\, Raum: Zahn 7 (Etage E\, Flur 48\, Raum 1) \nDie Foren bieten Raum für offene Gespräche\, Austausch von Erfahrungen und Inspiration. Lassen wir uns gemeinsam auf den Weg machen – hin zu mehr Nachhaltigkeit\, Energieeffizienz und Klimaschutz in der stationären Pflege. \nDas Forum am 17. Dezember mit dem Thema Mobilitätskonzepte richtet sich besonders an Mobilitäts-Praktiker*innen aus Krankenhäusern und Pflegeeinrichtungen. \nANMELDUNG
URL:https://www.aachen.digital/en/event/forum-nachhaltigkeit-in-pflege-und-gesundheit-3/
LOCATION:Uniklinik RWTH Aachen\, Pauwelsstraße 30\, Aachen\, NRW\, 52074\, Germany
ATTACH;FMTTYPE=image/jpeg:https://www.aachen.digital/wp-content/uploads/2025/11/Design-ohne-Titel-17.jpg
END:VEVENT
END:VCALENDAR