BEGIN:VCALENDAR
VERSION:2.0
PRODID:-//digitalHUB Aachen - ECPv6.15.20//NONSGML v1.0//EN
CALSCALE:GREGORIAN
METHOD:PUBLISH
X-WR-CALNAME:digitalHUB Aachen
X-ORIGINAL-URL:https://www.aachen.digital/en/
X-WR-CALDESC:Events for digitalHUB Aachen
REFRESH-INTERVAL;VALUE=DURATION:PT1H
X-Robots-Tag:noindex
X-PUBLISHED-TTL:PT1H
BEGIN:VTIMEZONE
TZID:Europe/Berlin
BEGIN:DAYLIGHT
TZOFFSETFROM:+0100
TZOFFSETTO:+0200
TZNAME:CEST
DTSTART:20240331T010000
END:DAYLIGHT
BEGIN:STANDARD
TZOFFSETFROM:+0200
TZOFFSETTO:+0100
TZNAME:CET
DTSTART:20241027T010000
END:STANDARD
BEGIN:DAYLIGHT
TZOFFSETFROM:+0100
TZOFFSETTO:+0200
TZNAME:CEST
DTSTART:20250330T010000
END:DAYLIGHT
BEGIN:STANDARD
TZOFFSETFROM:+0200
TZOFFSETTO:+0100
TZNAME:CET
DTSTART:20251026T010000
END:STANDARD
BEGIN:DAYLIGHT
TZOFFSETFROM:+0100
TZOFFSETTO:+0200
TZNAME:CEST
DTSTART:20260329T010000
END:DAYLIGHT
BEGIN:STANDARD
TZOFFSETFROM:+0200
TZOFFSETTO:+0100
TZNAME:CET
DTSTART:20261025T010000
END:STANDARD
END:VTIMEZONE
BEGIN:VEVENT
DTSTART;TZID=Europe/Berlin:20250404T083000
DTEND;TZID=Europe/Berlin:20250404T110000
DTSTAMP:20260423T164743
CREATED:20250304T102300Z
LAST-MODIFIED:20250304T102400Z
UID:10007252-1743755400-1743764400@www.aachen.digital
SUMMARY:Meet the Start-ups: Incubator Edition Limburg
DESCRIPTION:Bist du neugierig\, welche innovativen Unternehmen du in den Limburger Inkubatoren finden kannst? Während einer 2-stündigen Power-Session werden Startups aus dem Limburger Inkubator-Netzwerk vorgestellt. Durch ein festes Format von max. 3 Minuten Pitch mit max. 8 Folien lernst du an einem Vormittag mehr als 10 Limburger Startups kennen. \nDie Teilnahme ist kostenlos\, du musst nur deine Daten in das Formular eintragen. Die Anmeldung ist jedoch verbindlich\, bei Nichterscheinen wird eine No-Show-Gebühr von 50 € erhoben. \nProgramm \n08:30 Uhr: Empfang bei Van Havermaet \n09:00 Uhr: Begrüßung \n09:15 Uhr: Pitches \n11:00 Uhr: Ende \nTeilnehmende Startups (die Liste wird noch ergänzt):  \n\nBimefy\nResultX\nBoolean\nTrickle\nDaymaker\nClean Water Global\nScoopr\nClaimbee\nGoals Boost\nQuara\n\nMach dich bereit für einen Morgen voller Energie\, Innovation und Wachstum! \nZUR ANMELDUNG
URL:https://www.aachen.digital/en/event/meet-the-start-ups-incubator-edition-limburg/
LOCATION:Van Havermaet\, Diepenbekerweg 65\, Hasselt\, 3500\, Belgium
ATTACH;FMTTYPE=image/jpeg:https://www.aachen.digital/wp-content/uploads/2025/03/limburg-incubator-meetup.jpg
END:VEVENT
END:VCALENDAR