BEGIN:VCALENDAR
VERSION:2.0
PRODID:-//digitalHUB Aachen - ECPv6.15.20//NONSGML v1.0//EN
CALSCALE:GREGORIAN
METHOD:PUBLISH
X-ORIGINAL-URL:https://www.aachen.digital/en/
X-WR-CALDESC:Events for digitalHUB Aachen
REFRESH-INTERVAL;VALUE=DURATION:PT1H
X-Robots-Tag:noindex
X-PUBLISHED-TTL:PT1H
BEGIN:VTIMEZONE
TZID:Europe/Berlin
BEGIN:DAYLIGHT
TZOFFSETFROM:+0100
TZOFFSETTO:+0200
TZNAME:CEST
DTSTART:20180325T010000
END:DAYLIGHT
BEGIN:STANDARD
TZOFFSETFROM:+0200
TZOFFSETTO:+0100
TZNAME:CET
DTSTART:20181028T010000
END:STANDARD
BEGIN:DAYLIGHT
TZOFFSETFROM:+0100
TZOFFSETTO:+0200
TZNAME:CEST
DTSTART:20190331T010000
END:DAYLIGHT
BEGIN:STANDARD
TZOFFSETFROM:+0200
TZOFFSETTO:+0100
TZNAME:CET
DTSTART:20191027T010000
END:STANDARD
BEGIN:DAYLIGHT
TZOFFSETFROM:+0100
TZOFFSETTO:+0200
TZNAME:CEST
DTSTART:20200329T010000
END:DAYLIGHT
BEGIN:STANDARD
TZOFFSETFROM:+0200
TZOFFSETTO:+0100
TZNAME:CET
DTSTART:20201025T010000
END:STANDARD
END:VTIMEZONE
BEGIN:VEVENT
DTSTART;TZID=Europe/Berlin:20191212T180000
DTEND;TZID=Europe/Berlin:20191212T210000
DTSTAMP:20260423T220712
CREATED:20191120T141505Z
LAST-MODIFIED:20191120T141505Z
UID:10005463-1576173600-1576184400@www.aachen.digital
SUMMARY:GründerFoyer
DESCRIPTION:Das GründerFoyer bietet Existenzgründern und Jungunternehmern neben gründungsrelevanten Informationen die Möglichkeit\, von den Erfahrungen erfolgreicher Unternehmer zu profitieren und neue Kontakte zu knüpfen. Das kostenfreie Veranstaltungsformat findet vierteljährlich an wechselnden Orten in der GründerRegion Aachen\, Düren\, Euskirchen\, Heinsberg statt. \nInhalt dieser Veranstaltung\nImpulsvortrag durch Vojislav Miljanovic\, KAM3 GmbH zum Thema: “Die Kunst des Netzwerkens” \nIm Anschluss stehen Berater und weitere Experten für Fragen zum Thema Existenzgründung zur Verfügung. \nTermin\n12.12.2019 18:00 Uhr bis 12.12.2019 21:00 Uhr \nOrt\nVolksbank Heinsberg eG\, Siemensstraße 5\, 52525 Heinsberg \nDie Anmeldung erfolgt hier. \nBei Fragen zur Anmeldung wenden Sie sich bitte per E-Mail an: info@gruenderregion.de  \n 
URL:https://www.aachen.digital/en/event/gruenderfoyer-3/
LOCATION:Volksbank Heinsberg eG\, Siemensstraße 5\, Heinsberg\, 52525\, Deutschland
ATTACH;FMTTYPE=image/jpeg:https://www.aachen.digital/wp-content/uploads/2019/08/AachenerDom.jpg
ORGANIZER;CN="Gr%C3%BCnderRegion Aachen":MAILTO:info@gruenderregion.de
END:VEVENT
BEGIN:VEVENT
DTSTART;TZID=Europe/Berlin:20191106T190000
DTEND;TZID=Europe/Berlin:20191106T220000
DTSTAMP:20260423T220712
CREATED:20190930T093736Z
LAST-MODIFIED:20190930T093736Z
UID:10004850-1573066800-1573077600@www.aachen.digital
SUMMARY:AC² - Auftaktveranstaltung im Kreis Heinsberg
DESCRIPTION:Die Businessplanwettbewerbe AC² – GRÜNDUNG\, WACHSTUM\, INNOVATION starten in die nächste Runde.\nNutzen Sie die Möglichkeit\, sich über unsere beiden Wettbewerbe „AC² – der Gründungswettbewerb“ und „AC² – die Wachstumsinitiative“ zu informieren\, erste Kontakte zum AC²-Beraternetzwerk zu knüpfen sowie andere Existenzgründer und Unternehmer kennenzulernen: \nAus Ideen werden Unternehmen. Mit AC² – der Gründungswettbewerb zum eigenen Unternehmen! \nMit AC² – der Gründungswettbewerb können Existenzgründer ihre Unternehmensgründung voranbringen und kostenfreie Unterstützung bei der Erstellung des Businessplans erhalten. \nAus Gedanken werden Strategien. Mit AC² – die Wachstumsinitiative zu mehr Unternehmenserfolg! \nMit dem umfassenden Angebot von AC² – die Wachstumsinitiative unterstützen wir Unternehmen mit Wachstumsambitionen. Ein kostenfreier AC²-Berater und ein praxisnahes Informationsangebot unterstützen Unternehmer bei der Entwicklung ihrer Wachstumsstrategie. \nHIER GEHTS ZUR ANMELDUNG
URL:https://www.aachen.digital/en/event/ac%c2%b2-auftaktveranstaltung-heinsberg-2/
LOCATION:Volksbank Heinsberg eG\, Siemensstraße 5\, Heinsberg\, 52525\, Deutschland
ATTACH;FMTTYPE=image/jpeg:https://www.aachen.digital/wp-content/uploads/2019/08/stage_gruenderregion-1.jpg
ORGANIZER;CN="Gr%C3%BCnderRegion Aachen%2C D%C3%BCren%2C Euskirchen%2C Heinsberg":MAILTO:info@gruenderregion.de
END:VEVENT
END:VCALENDAR