BEGIN:VCALENDAR
VERSION:2.0
PRODID:-//digitalHUB Aachen - ECPv6.15.20//NONSGML v1.0//EN
CALSCALE:GREGORIAN
METHOD:PUBLISH
X-ORIGINAL-URL:https://www.aachen.digital/en/
X-WR-CALDESC:Events for digitalHUB Aachen
REFRESH-INTERVAL;VALUE=DURATION:PT1H
X-Robots-Tag:noindex
X-PUBLISHED-TTL:PT1H
BEGIN:VTIMEZONE
TZID:Europe/Berlin
BEGIN:DAYLIGHT
TZOFFSETFROM:+0100
TZOFFSETTO:+0200
TZNAME:CEST
DTSTART:20180325T010000
END:DAYLIGHT
BEGIN:STANDARD
TZOFFSETFROM:+0200
TZOFFSETTO:+0100
TZNAME:CET
DTSTART:20181028T010000
END:STANDARD
BEGIN:DAYLIGHT
TZOFFSETFROM:+0100
TZOFFSETTO:+0200
TZNAME:CEST
DTSTART:20190331T010000
END:DAYLIGHT
BEGIN:STANDARD
TZOFFSETFROM:+0200
TZOFFSETTO:+0100
TZNAME:CET
DTSTART:20191027T010000
END:STANDARD
BEGIN:DAYLIGHT
TZOFFSETFROM:+0100
TZOFFSETTO:+0200
TZNAME:CEST
DTSTART:20200329T010000
END:DAYLIGHT
BEGIN:STANDARD
TZOFFSETFROM:+0200
TZOFFSETTO:+0100
TZNAME:CET
DTSTART:20201025T010000
END:STANDARD
BEGIN:DAYLIGHT
TZOFFSETFROM:+0100
TZOFFSETTO:+0200
TZNAME:CEST
DTSTART:20210328T010000
END:DAYLIGHT
BEGIN:STANDARD
TZOFFSETFROM:+0200
TZOFFSETTO:+0100
TZNAME:CET
DTSTART:20211031T010000
END:STANDARD
BEGIN:DAYLIGHT
TZOFFSETFROM:+0100
TZOFFSETTO:+0200
TZNAME:CEST
DTSTART:20220327T010000
END:DAYLIGHT
BEGIN:STANDARD
TZOFFSETFROM:+0200
TZOFFSETTO:+0100
TZNAME:CET
DTSTART:20221030T010000
END:STANDARD
BEGIN:DAYLIGHT
TZOFFSETFROM:+0100
TZOFFSETTO:+0200
TZNAME:CEST
DTSTART:20230326T010000
END:DAYLIGHT
BEGIN:STANDARD
TZOFFSETFROM:+0200
TZOFFSETTO:+0100
TZNAME:CET
DTSTART:20231029T010000
END:STANDARD
BEGIN:DAYLIGHT
TZOFFSETFROM:+0100
TZOFFSETTO:+0200
TZNAME:CEST
DTSTART:20240331T010000
END:DAYLIGHT
BEGIN:STANDARD
TZOFFSETFROM:+0200
TZOFFSETTO:+0100
TZNAME:CET
DTSTART:20241027T010000
END:STANDARD
BEGIN:DAYLIGHT
TZOFFSETFROM:+0100
TZOFFSETTO:+0200
TZNAME:CEST
DTSTART:20250330T010000
END:DAYLIGHT
BEGIN:STANDARD
TZOFFSETFROM:+0200
TZOFFSETTO:+0100
TZNAME:CET
DTSTART:20251026T010000
END:STANDARD
END:VTIMEZONE
BEGIN:VEVENT
DTSTART;TZID=Europe/Berlin:20240227T190000
DTEND;TZID=Europe/Berlin:20240227T210000
DTSTAMP:20260423T165807
CREATED:20240207T135121Z
LAST-MODIFIED:20240207T135626Z
UID:10006729-1709060400-1709067600@www.aachen.digital
SUMMARY:WERKBANK SPÄTSCHICHT: Abendvortrag "Praxisorientierte KI für KMU"
DESCRIPTION:Bei diesem Vortrag wird der Heinsberger KI-Experte Volker Thebrath im Abendvortrag “Praxisorientierte KI für KMU” aufzeigen\, wie Privatpersonen und Unternehmen bereits heute von KI profitieren und welche Potenziale für die Zukunft bereitstehen. \nDie Veranstaltung ist der Auftakt der neuen Veranstaltungsreihe „WERKBANK SPÄTSCHICHT“\, in deren Rahmen regelmäßig regionale Experten zu verschiedensten Business-Themen eingeladen werden. \nIm Anschluss lädt eine Diskussionsrunde dazu ein\, mit dem Experten die verschiedenen Aspekte von KI zu beleuchten – von den positiven Auswirkungen bis hin zu möglichen Grenzen und Risiken. \nInformationen & Anmeldung
URL:https://www.aachen.digital/en/event/werkbank-spaetschicht-abendvortrag-praxisorientierte-ki-fuer-kmu/
LOCATION:Werkbank Heinsberg\, Hochstraße 100\, Heinsberg\, 52525
ATTACH;FMTTYPE=image/jpeg:https://www.aachen.digital/wp-content/uploads/2024/02/KI-Expertenvortrag_Werkbank-Spaetschicht.jpg
ORGANIZER;CN="Werkbank Heinsberg":MAILTO:buero@werkbank-hs.de
END:VEVENT
BEGIN:VEVENT
DTSTART;TZID=Europe/Berlin:20201112T190000
DTEND;TZID=Europe/Berlin:20201112T210000
DTSTAMP:20260423T165807
CREATED:20201021T133051Z
LAST-MODIFIED:20201021T133051Z
UID:10005672-1605207600-1605214800@www.aachen.digital
SUMMARY:Gründerstammtisch Kreis Heinsberg 11/20
DESCRIPTION:Die WFG Wirtschaftsförderungsgesellschaft für den Kreis Heinsberg mbH und die Werkbank etablieren im Coworking-Space in der Kreissparkasse Heinsberg den Gründerstammtisch Kreis Heinsberg als Treffpunkt für Gründungsinteressierte\, Gründerinnen und Gründer sowie Unternehmen aller Branchen. Der Stammtisch gibt Interessierten die Möglichkeit zum Erfahrungsaustausch und zum Wissenserwerb im Hinblick auf alle Facetten der Existenzgründung. Alle\, die einen Beitrag zum Gründungsgeschehen leisten wollen\, sind herzlich eingeladen\, in lockerer Atmosphäre ihre eigenen Erfahrungen in Gespräche einzubringen und einander mit Rat und Tat zur Seite zu stehen. \n„Eine solche Plattform speziell für Gründerinnen und Gründer sowie Gründungsinteressierte hat bislang im Kreis gefehlt. Wir wollen mit dem Gründerstammtisch einen Platz schaffen\, um sich zu treffen\, Erfahrungen auszutauschen\, Ideen vorzustellen oder Fragen zu stellen”\, sagt Arnd Thebrath von der WFG. \n„Die lockere Stammtisch-Atmosphäre soll dazu beitragen\, einfach mal ungezwungen eigene Ideen vorzustellen und andere um Rat zu fragen. Wir haben ganz bewusst die Heinsberger Werkbank als Treffpunkt ausgewählt\, weil es dort im Coworking-Space perfekte Arbeitsbedingungen für angehende Jungunternehmerinnen und Jungunternehmer gibt. Und natürlich gibt es zu den Stammtischabenden immer leckeres Bier aus der Region“\, ergänzt Frank Bärmann. Er ist für die Werkbank im Organisationsteam und selbst erfahrener Berater u.a. beim Gründungswettbewerb AC². \nDer Gründerstammtisch Kreis Heinsberg startet am Donnerstag\, 2. Mai 2019 und findet ab dann jeweils am ersten Donnerstag alle zwei Monate ab 19:00 Uhr in der Werkbank\, Hochstraße 100\, 52525 Heinsberg statt. Anmeldungen sowie Ideen und Anregungen zum Stammtisch werden gerne per E-Mail an gruenderstammtisch@wfg-kreis-heinsberg.de entgegen genommen. Die Initiatoren freuen sich auf eine rege Teilnahme. \nAnsprechpartner bei Fragen zum Gründerstammtisch sind für die Wirtschaftsförderungsgesellschaft Arnd Thebrath\n(thebrath@wfg-kreis-heinsberg.de\, Telefon 0 24 52 / 13 – 1821) und für die Werkbank Frank Bärmann (fb@werkbank-heinsberg.de\, Telefon 0 24 52 / 95 76 301). \nVeranstalter\nWFG Wirtschaftsförderungsgesellschaft für den Kreis Heinsberg mbH und Werkbank \n52525 Heinsberg\nE-Mail: gruenderstammtisch@wfg-kreis-heinsberg.de
URL:https://www.aachen.digital/en/event/kaminabendhome/
LOCATION:Werkbank Heinsberg\, Hochstraße 100\, Heinsberg\, 52525
ATTACH;FMTTYPE=image/jpeg:https://www.aachen.digital/wp-content/uploads/2019/06/gruenderstammtisch_werkbank.jpg
ORGANIZER;CN="Werkbank Heinsberg":MAILTO:buero@werkbank-hs.de
END:VEVENT
BEGIN:VEVENT
DTSTART;TZID=Europe/Berlin:20200924T090000
DTEND;TZID=Europe/Berlin:20200924T120000
DTSTAMP:20260423T165807
CREATED:20200814T153057Z
LAST-MODIFIED:20200814T153057Z
UID:10005610-1600938000-1600948800@www.aachen.digital
SUMMARY:Unternehmersprechtag Import/Export
DESCRIPTION:In 45-minütigen Einzelgesprächen erhalten Unternehmen die Gelegenheit Fragen rund um ihr Export- und Importgeschäft zu stellen. \nDer Sprechtag richtet sich an Unternehmen die erstmalig ins Im- und Exportgeschäft einsteigen möchten oder ihre Geschäfte auf andere Länder ausweiten wollen. Die IHK Aachen berät Unternehmen in terminierten Einzelgesprächen insbesondere zu Fragen der Zollabwicklung und Zollverfahren\, den notwendigen Dokumenten für den Im- und Export sowie zum Ursprungsrecht. Der Sprechtag ist kostenfrei\, jedoch anmeldepflichtig. \nBitte nehmen Sie Kontakt auf mit Karin Sterk\, Tel.: 0241 4460-397\, E-Mail: karin.sterk@aachen.ihk.de
URL:https://www.aachen.digital/en/event/unternehmersprechtag-import-export/
LOCATION:Werkbank Heinsberg\, Hochstraße 100\, Heinsberg\, 52525
ATTACH;FMTTYPE=image/jpeg:https://www.aachen.digital/wp-content/uploads/2019/12/Telematik-Fachtagung12zu5.jpg
ORGANIZER;CN="IHK Aachen":MAILTO:info@ihkaachen.de
END:VEVENT
BEGIN:VEVENT
DTSTART;TZID=Europe/Berlin:20200514T190000
DTEND;TZID=Europe/Berlin:20200514T210000
DTSTAMP:20260423T165807
CREATED:20191217T122512Z
LAST-MODIFIED:20191217T122512Z
UID:10005491-1589482800-1589490000@www.aachen.digital
SUMMARY:Gründerstammtisch Kreis Heinsberg
DESCRIPTION:Die WFG Wirtschaftsförderungsgesellschaft für den Kreis Heinsberg mbH und die Werkbank veranstalten im Coworking-Space in der Kreissparkasse Heinsberg den Gründerstammtisch Kreis Heinsberg als Treffpunkt für Gründungsinteressierte\, Gründerinnen und Gründer sowie Unternehmen aller Branchen. Der Stammtisch gibt Interessierten die Möglichkeit zum Erfahrungsaustausch und zum Wissenserwerb im Hinblick auf alle Facetten der Existenzgründung. Alle\, die einen Beitrag zum Gründungsgeschehen leisten wollen\, sind herzlich eingeladen\, in lockerer Atmosphäre ihre eigenen Erfahrungen in Gespräche einzubringen und einander mit Rat und Tat zur Seite zu stehen. \nAnmeldungen sowie Ideen und Anregungen zum Stammtisch werden gerne per E-Mail an gruenderstammtisch@wfg-kreis-heinsberg.de entgegen genommen. Die Initiatoren freuen sich auf eine rege Teilnahme. \nAnsprechpartner bei Fragen zum Gründerstammtisch sind für die Wirtschaftsförderungsgesellschaft Arnd Thebrath \n(thebrath@wfg-kreis-heinsberg.de\, Telefon 0 24 52 / 13 – 1821) \nund für die Werkbank Frank Bärmann \n(fb@werkbank-heinsberg.de\, Telefon 0 24 52 / 95 76 301).
URL:https://www.aachen.digital/en/event/gruenderstammtisch-kreis-heinsberg-4/
LOCATION:Werkbank Heinsberg\, Hochstraße 100\, Heinsberg\, 52525
ATTACH;FMTTYPE=image/jpeg:https://www.aachen.digital/wp-content/uploads/2019/06/gruenderstammtisch_werkbank.jpg
ORGANIZER;CN="Werkbank Heinsberg":MAILTO:buero@werkbank-hs.de
END:VEVENT
BEGIN:VEVENT
DTSTART;TZID=Europe/Berlin:20200312T190000
DTEND;TZID=Europe/Berlin:20200312T210000
DTSTAMP:20260423T165807
CREATED:20191217T122529Z
LAST-MODIFIED:20191217T122529Z
UID:10005494-1584039600-1584046800@www.aachen.digital
SUMMARY:Gründerstammtisch Kreis Heinsberg
DESCRIPTION:Die WFG Wirtschaftsförderungsgesellschaft für den Kreis Heinsberg mbH und die Werkbank veranstalten im Coworking-Space in der Kreissparkasse Heinsberg den Gründerstammtisch Kreis Heinsberg als Treffpunkt für Gründungsinteressierte\, Gründerinnen und Gründer sowie Unternehmen aller Branchen. Der Stammtisch gibt Interessierten die Möglichkeit zum Erfahrungsaustausch und zum Wissenserwerb im Hinblick auf alle Facetten der Existenzgründung. Alle\, die einen Beitrag zum Gründungsgeschehen leisten wollen\, sind herzlich eingeladen\, in lockerer Atmosphäre ihre eigenen Erfahrungen in Gespräche einzubringen und einander mit Rat und Tat zur Seite zu stehen. \nAnmeldungen sowie Ideen und Anregungen zum Stammtisch werden gerne per E-Mail an gruenderstammtisch@wfg-kreis-heinsberg.de entgegen genommen. Die Initiatoren freuen sich auf eine rege Teilnahme. \nAnsprechpartner bei Fragen zum Gründerstammtisch sind für die Wirtschaftsförderungsgesellschaft Arnd Thebrath \n(thebrath@wfg-kreis-heinsberg.de\, Telefon 0 24 52 / 13 – 1821) \nund für die Werkbank Frank Bärmann \n(fb@werkbank-heinsberg.de\, Telefon 0 24 52 / 95 76 301).
URL:https://www.aachen.digital/en/event/gruenderstammtisch-kreis-heinsberg-3/
LOCATION:Werkbank Heinsberg\, Hochstraße 100\, Heinsberg\, 52525
ATTACH;FMTTYPE=image/jpeg:https://www.aachen.digital/wp-content/uploads/2019/06/gruenderstammtisch_werkbank.jpg
ORGANIZER;CN="Werkbank Heinsberg":MAILTO:buero@werkbank-hs.de
END:VEVENT
BEGIN:VEVENT
DTSTART;TZID=Europe/Berlin:20200310T190000
DTEND;TZID=Europe/Berlin:20200310T210000
DTSTAMP:20260423T165807
CREATED:20200128T095729Z
LAST-MODIFIED:20200128T100446Z
UID:10005509-1583866800-1583874000@www.aachen.digital
SUMMARY:Workshop - Personal in den Niederlanden
DESCRIPTION:WORKSHOP\nWegen der enormen Menge an Regeln und der erheblichen Unterschiede zwischen der niederländischen und deutschen Gesetzgebung ist es für deutsche Arbeitgeber häufig schwierig\, ihren Weg durch diesen Wirrwarr an Regelungen zu finden. Über die rechtlichen Unterschiede hinaus sind interkulturelle Unterschiede und Employer Branding Themen vorhanden\, die man bei Mitarbeiteranwerbung und Einstellung beachten sollte. Um diesen Bedarf zu erfüllen\, organisieren FF Legal und Thinking Marketing den Workshop Personal in den Niederlanden finden und binden. Anhand des 4-Phasen-Kreislaufes werden die unterschiedlichen Themen\, häufig vorkommenden Situationen und Fettnäpfchen erklärt.\nEs gibt ausreichend Gelegenheit\, eigene Praxiserfahrungen zu teilen und bereits vorhandene Fragen zu stellen. Auch wird ein Unternehmer seine Erfahrungen im Deutsch-Niederländischen Bereich teilen. \nZIELGRUPPE\nDieser Workshop eignet sich ausgezeichnet für in Deutschland ansässige Arbeitgeber\, die Personal aus den Niederlanden einstellen möchten oder die bereits mit Arbeitnehmern in oder aus den Niederlanden arbeiten. Sie erweitern einerseits Ihr Wissen über die Rechtsvorschriften in den Niederlanden und andererseits Ihr Verständnis für die Niederländer im Allgemeinen. Beide werden der Zusammenarbeit zugutekommen. \nWO\, WANN UND WIE\nORT: WERKBANK COWORKING – HOCHSTRASSE 100\, 52525 HEINSBERG\nDATUM: 10.3.2020 19.00-21.00 UHR\nTEILNEHMERZAHL: MAX. 15 PERSONEN\nTEILNAHMEGEBÜHR: € 149 PRO PERSON (ZZGL. 19% MWST)\nINKL. GETRÄNKE UND KLEINER IMBISS \nANMELDUNG: BIS ZUM 1. MÄRZ 2020 PER E-MAIL AN FASSBENDER@FFLEGAL.DE\nVeranstalter\nGerdi Faßbender-Feiter / FF-Legal \n 
URL:https://www.aachen.digital/en/event/workshop-personal-in-den-niederlanden/
LOCATION:Werkbank Heinsberg\, Hochstraße 100\, Heinsberg\, 52525
ATTACH;FMTTYPE=image/jpeg:https://www.aachen.digital/wp-content/uploads/2020/01/workshop_112_5-1.jpg
ORGANIZER;CN="Werkbank Heinsberg":MAILTO:buero@werkbank-hs.de
END:VEVENT
BEGIN:VEVENT
DTSTART;TZID=Europe/Berlin:20200217T190000
DTEND;TZID=Europe/Berlin:20200217T210000
DTSTAMP:20260423T165807
CREATED:20200127T103111Z
LAST-MODIFIED:20200127T103111Z
UID:10005503-1581966000-1581973200@www.aachen.digital
SUMMARY:38. Web Montag Kreis Heinsberg - Agile Softwareentwicklung
DESCRIPTION:Der 38. Web Montag Kreis Heinsberg geht der Frage nach\, wie agiles Projektmanagement mit Scrum funktioniert. Joël Vierboom\, Wirtschaftspsychologe\, Agile Coach und Gründer von Team Vierboom aus Heinsberg\, wird einen Eindruck der Methode mit all ihren Rollen\, Events\, Artefakten und dem konkreten Ablauf vermitteln. Um die praktische Anwendung zu zeigen\, wird das Beispiel agiler Softwareentwicklung betrachtet. \nWEITERE INFOS & ANMELDUNG
URL:https://www.aachen.digital/en/event/38-web-montag-kreis-heinsberg-agile-softwareentwicklung-3/
LOCATION:Werkbank Heinsberg\, Hochstraße 100\, Heinsberg\, 52525
ATTACH;FMTTYPE=image/jpeg:https://www.aachen.digital/wp-content/uploads/2019/12/Web-Montag.jpg
ORGANIZER;CN="Werkbank Heinsberg":MAILTO:buero@werkbank-hs.de
END:VEVENT
BEGIN:VEVENT
DTSTART;TZID=Europe/Berlin:20200120T190000
DTEND;TZID=Europe/Berlin:20200120T210000
DTSTAMP:20260423T165807
CREATED:20191217T123355Z
LAST-MODIFIED:20191217T123355Z
UID:10005495-1579546800-1579554000@www.aachen.digital
SUMMARY:37. Web Montag Kreis Heinsberg - Tools und Plattformen zur Unterstützung deines Marketings
DESCRIPTION:Beim ersten Web-Montag des neuen Jahres gewährt uns PR- und Social-Media-Experte Frank Bärmann von der Heinsberger PR-Agentur conpublica einen Einblick in seinen Agentur-Alltag. Er zeigt uns seine Tools und Online-Plattformen\, die er und sein Team täglich nutzen\, um die Kundenprojekte einfacher und effizienter umsetzen zu können. Hierzu zählen sicher Trello\, Slack und IFTTT. Es gibt aber eine ganze Menge spezieller Werkzeuge und Softwarelösungen für die PR-und Social-Media-Arbeit. \nHier geht´s zur Anmeldung. \nVeranstalter\nWeb Montag Orga Team \nHochstraße\, 100\n52525 Heinsberg\nTel: 024529576301\nE-Mail: webmontag@werkbank-hs.de\nWebsite: https://www.webmontag-heinsberg.de
URL:https://www.aachen.digital/en/event/37-web-montag-kreis-heinsberg-tools-und-plattformen-zur-unterstuetzung-deines-marketings-2/
LOCATION:Werkbank Heinsberg\, Hochstraße 100\, Heinsberg\, 52525
ATTACH;FMTTYPE=image/jpeg:https://www.aachen.digital/wp-content/uploads/2019/12/Web-Montag.jpg
ORGANIZER;CN="Werkbank Heinsberg":MAILTO:buero@werkbank-hs.de
END:VEVENT
BEGIN:VEVENT
DTSTART;TZID=Europe/Berlin:20200109T190000
DTEND;TZID=Europe/Berlin:20200109T210000
DTSTAMP:20260423T165807
CREATED:20191217T122459Z
LAST-MODIFIED:20191217T122459Z
UID:10005490-1578596400-1578603600@www.aachen.digital
SUMMARY:Gründerstammtisch Kreis Heinsberg
DESCRIPTION:Die WFG Wirtschaftsförderungsgesellschaft für den Kreis Heinsberg mbH und die Werkbank veranstalten im Coworking-Space in der Kreissparkasse Heinsberg den Gründerstammtisch Kreis Heinsberg als Treffpunkt für Gründungsinteressierte\, Gründerinnen und Gründer sowie Unternehmen aller Branchen. Der Stammtisch gibt Interessierten die Möglichkeit zum Erfahrungsaustausch und zum Wissenserwerb im Hinblick auf alle Facetten der Existenzgründung. Alle\, die einen Beitrag zum Gründungsgeschehen leisten wollen\, sind herzlich eingeladen\, in lockerer Atmosphäre ihre eigenen Erfahrungen in Gespräche einzubringen und einander mit Rat und Tat zur Seite zu stehen. \nAnmeldungen sowie Ideen und Anregungen zum Stammtisch werden gerne per E-Mail an gruenderstammtisch@wfg-kreis-heinsberg.de entgegen genommen. Die Initiatoren freuen sich auf eine rege Teilnahme. \nAnsprechpartner bei Fragen zum Gründerstammtisch sind für die Wirtschaftsförderungsgesellschaft Arnd Thebrath \n(thebrath@wfg-kreis-heinsberg.de\, Telefon 0 24 52 / 13 – 1821) \nund für die Werkbank Frank Bärmann \n(fb@werkbank-heinsberg.de\, Telefon 0 24 52 / 95 76 301).
URL:https://www.aachen.digital/en/event/gruenderstammtisch-kreis-heinsberg-2/
LOCATION:Werkbank Heinsberg\, Hochstraße 100\, Heinsberg\, 52525
ATTACH;FMTTYPE=image/jpeg:https://www.aachen.digital/wp-content/uploads/2019/06/gruenderstammtisch_werkbank.jpg
ORGANIZER;CN="Werkbank Heinsberg":MAILTO:buero@werkbank-hs.de
END:VEVENT
BEGIN:VEVENT
DTSTART;TZID=Europe/Berlin:20191113T174500
DTEND;TZID=Europe/Berlin:20191113T194500
DTSTAMP:20260423T165807
CREATED:20191105T114312Z
LAST-MODIFIED:20191105T114646Z
UID:10004863-1573667100-1573674300@www.aachen.digital
SUMMARY:IT Werkbank Forum: Nützlich kommt von Nutzen
DESCRIPTION:– wie Sie es schaffen\, dass Ihre Mitarbeiter neue Technologien wirklich wollen\nDie IT treibt die Digitalisierung voran – immer höher\, schneller\, weiter. Doch was passiert eigentlich\, wenn Ihre Mitarbeiter die neuen Technologien gar nicht nutzen möchten? Was\, wenn sie lieber so arbeiten wie bisher? \nHier setzen Strategien an\, die wir Ihnen an dem Abend mit unserem Partner sepago sehr gerne vorstellen und mit Ihnen diskutieren möchten.\nSo bringen Sie Ihre Mitarbeiter dazu neue Technologien nicht einsetzen zu MÜSSEN\, sondern unbedingt einsetzen zu WOLLEN! \nTechnik zu haben und Technik zu nutzen ist schon ein großer Unterschied – sie nutzen zu müssen und unbedingt nutzen zu wollen\, ein noch deutlich größerer.\nFinden Sie sich mit uns im IT Werkbank Forum ein\, werden Sie Teil dieses interaktiven Workshops und diskutieren Sie mit uns die Idee vom effektiven “Werken”. \nIT Werkbank Forum – gemeinsam verstehen\, gemeinsam lernen\, miteinander diskutieren.\nMittlerweile in der Region etabliert – das 6. Werkbank Forum bietet für Sie die Chance der Community beizutreten. \nDie Veranstaltung ist kostenlos. \nHIER GEHTS ZUR ANMELDUNG \n 
URL:https://www.aachen.digital/en/event/it-werkbank-forum-nuetzlich/
LOCATION:Werkbank Heinsberg\, Hochstraße 100\, Heinsberg\, 52525
ATTACH;FMTTYPE=image/jpeg:https://www.aachen.digital/wp-content/uploads/2019/11/iteracon-nützlich-12zu5.jpg
END:VEVENT
BEGIN:VEVENT
DTSTART;TZID=Europe/Berlin:20190704T190000
DTEND;TZID=Europe/Berlin:20190704T210000
DTSTAMP:20260423T165807
CREATED:20190614T125711Z
LAST-MODIFIED:20190614T125913Z
UID:10005342-1562266800-1562274000@www.aachen.digital
SUMMARY:Gründerstammtisch in der Werkbank
DESCRIPTION:Nach dem erfolgreichen Start der neuen Plattform für Gründungsinteressierte und Start-ups im Kreis Heinsberg rufen die WFG Wirtschaftsförderungsgesellschaft für den Kreis Heinsberg mbH und die Werkbank zum nächsten Gründerstammtisch im Kreis Heinsberg am 4. Juli um 19:00 Uhr auf. Im Coworking-Space in der Kreissparkasse Heinsberg\, Hochstraße 100\, 52525 Heinsberg treffen sich Gründungsinteressierte\, Gründerinnen und Gründer sowie Unternehmer und Unternehmerinnen zum Erfahrungsaustausch in Sachen erfolgreiche Unternehmensgründung und Unternehmensführung. \nDie Teilnehmer am ersten Stammtisch kamen aus den unterschiedlichsten Branchen\, einig waren sich jedoch alle über den Wert eines solchen Treffens. Insbesondere das Potenzial\, von den Erfahrungen ehemaliger Gründer und gestandener Unternehmer zu profitieren\, wurde positiv hervorgehoben. Sogar erste Geschäftsbeziehungen wurden geknüpft. \nAngefangen bei zwei jungen Gründungswilligen\, die bisher nur ein Konzept für ein mit neuen Inhalten gefülltes digitales Immobilienportal entwickelt haben\, bis hin zur Unternehmerin\, die als Office-Managerin sowohl von ihren Erfahrungen in der Gründungsphase als auch aus dem tagtäglichen Geschäftsleben berichten konnte\, traf hier eine heterogene Gruppe zusammen. Es entwickelten sich interessante Gespräche. \n„Der Branchenmix und die unterschiedlichen Unternehmensphasen machen den Wert für alle Teilnehmer am Gründerstammtisch aus.“ fasst Arnd Thebrath\, Mitinitiator seitens der WFG\, den Anspruch des Gründerstammtisches zusammen. \nZiel ist selbstverständlich\, den Kreis der Interessierten zu erweitern. Anmeldungen sowie Ideen und Anregungen zum Stammtisch werden gerne per E-Mail an gruenderstammtisch@wfg-kreis-heinsberg.de entgegen genommen. \nAnsprechpartner bei Fragen zum Gründerstammtisch Kreis Heinsberg sind für die WFG Arnd Thebrath\, Telefon 02452/13-1821 oder thebrath@wfg-kreis-heinsberg.de und für die Werkbank Frank Bärmann Telefon 02452/9576301 oder fb@werkbank-heinsberg.de.
URL:https://www.aachen.digital/en/event/gruenderstammtisch-in-der-werkbank-juli/
LOCATION:Werkbank Heinsberg\, Hochstraße 100\, Heinsberg\, 52525
ATTACH;FMTTYPE=image/jpeg:https://www.aachen.digital/wp-content/uploads/2019/06/gruenderstammtisch_werkbank.jpg
ORGANIZER;CN="Werkbank Heinsberg":MAILTO:buero@werkbank-hs.de
END:VEVENT
BEGIN:VEVENT
DTSTART;TZID=Europe/Berlin:20190628T140000
DTEND;TZID=Europe/Berlin:20190628T180000
DTSTAMP:20260423T165807
CREATED:20190326T144435Z
LAST-MODIFIED:20190326T144615Z
UID:10004984-1561730400-1561744800@www.aachen.digital
SUMMARY:Gründermesse AUFBRUCH 2019
DESCRIPTION:Seit vielen Jahren findet einmal jährlich eine kostenlose Fachmesse rund um das Thema Existenzgründung statt\, und zwar jedes Jahr an einem anderen Standort innerhalb des Gebietes der Gründerregion Aachen. 2019 gastiert die Gründermesse am 28. Juni in der Kreissparkasse Heinsberg und in der Werkbank Heinsberg.\nDie Gründermesse bietet Beratung\, Fach- und Hintergrundinformationen sowie Möglichkeiten zur Kontaktaufnahme für alle\, die sich selbstständig machen wollen. Wer sich unverbindlich umsehen will\, ist hier genauso richtig wie derjenige\, der eine konkrete Finanzierungsfrage klären\, einen Vortrag zum Thema Marketing hören oder Kontakte knüpfen will.
URL:https://www.aachen.digital/en/event/gruendermesse-aufbruch-2019/
LOCATION:Werkbank Heinsberg\, Hochstraße 100\, Heinsberg\, 52525
ATTACH;FMTTYPE=image/png:https://www.aachen.digital/wp-content/uploads/2018/04/gruender-region-aachen.png
ORGANIZER;CN="Gr%C3%BCnderRegion Aachen":MAILTO:info@gruenderregion.de
END:VEVENT
BEGIN:VEVENT
DTSTART;TZID=Europe/Berlin:20190507T160000
DTEND;TZID=Europe/Berlin:20190507T180000
DTSTAMP:20260423T165807
CREATED:20190326T144959Z
LAST-MODIFIED:20190326T150406Z
UID:10004985-1557244800-1557252000@www.aachen.digital
SUMMARY:Gute Geschäfte im Kreis Heinsberg
DESCRIPTION:Um ein gutes Geschäft handelt es sich immer\, wenn alle Beteiligten einen Vorteil haben. Diese sind bei der Veranstaltung “Gute Geschäfte im Kreis Heinsberg” Unternehmen und gemeinnützige Organisationen aus der Region – und alle werden profitieren. \nAm 07.05.2019 werden sich in der Werkbank der Kreissparkasse Heinsberg in der Hochstraße 100 Unternehmen und gemeinnützige Organisationen\, Initiativen und Vereine zusammenkommen\, um im Rahmen eines Marktplatzes verbindliche Vereinbarungen zu treffen und “Gute Geschäfte” zu machen. Hierbei handelt es sich ausschließlich um Vorteile wie Kompetenzen (Wissen)\, Personal (Zeit) und Sachleistungen (Mittel).\nGeld darf nicht Teil des Handels sein! \nDie vereinbarten Aktionen und Projekte werden auf der Website veröffentlicht. Initial wurde die Idee der guten Geschäfte 2006 durch die Bertelsmanns Stiftung aus den Niederlanden nach Deutschland übertragen. Das Konzept ist bereits in über 100 Kommunen in Deutschland umgesetzt worden und hat nun seinen Weg in den Kreis Heinsberg gefunden. \n  \nWeitere Informationen zum Event sowie zur Anmeldung finden Sie hier: \nGute Geschäfte im Kreis Heinsberg
URL:https://www.aachen.digital/en/event/gute-geschaefte-im-kreis-heinsberg/
LOCATION:Werkbank Heinsberg\, Hochstraße 100\, Heinsberg\, 52525
ATTACH;FMTTYPE=image/jpeg:https://www.aachen.digital/wp-content/uploads/2019/03/Gute-Geschäfte-Heinsberg.jpg
END:VEVENT
BEGIN:VEVENT
DTSTART;TZID=Europe/Berlin:20190502T190000
DTEND;TZID=Europe/Berlin:20190502T210000
DTSTAMP:20260423T165807
CREATED:20190426T115814Z
LAST-MODIFIED:20190430T114745Z
UID:10004998-1556823600-1556830800@www.aachen.digital
SUMMARY:Gründerstammtisch Kreis Heinsberg
DESCRIPTION:Der Stammtisch gibt Interessierten die Möglichkeit zum Erfahrungsaustausch und zum Wissenserwerb im Hinblick auf alle Facetten der Existenzgründung. Alle\, die einen Beitrag zum Gründungsgeschehen leisten wollen\, sind herzlich eingeladen\, in lockerer Atmosphäre ihre eigenen Erfahrungen in Gespräche einzubringen und einander mit Rat und Tat zur Seite zu stehen. \n\nWann: Donnerstag\, 2. Mai 2019 (ab dann jeweils am ersten Donnerstag alle zwei Monate ab 19:00 Uhr)\nWo: in der Werkbank\, Hochstraße 100\, 52525 Heinsberg\n\nAnmeldungen sowie Ideen und Anregungen zum Stammtisch werden gerne per E-Mail an gruenderstammtisch@wfg-kreis-heinsberg.de entgegen genommen. Die Initiatoren freuen sich auf eine rege Teilnahme. \nWeitere Informationen \nAnsprechpartner bei Fragen zum Gründerstammtisch: \n\nWirtschaftsförderungsgesellschaft: Arnd Thebrath thebrath@wfg-kreis-heinsberg.de\, Telefon 0 24 52 / 13 – 1821\nWerkbank: Frank Bärmann fb@werkbank-heinsberg.de\, Telefon 0 24 52 / 95 76 301
URL:https://www.aachen.digital/en/event/gruenderstammtisch-heinsberg/
LOCATION:Werkbank Heinsberg\, Hochstraße 100\, Heinsberg\, 52525
ATTACH;FMTTYPE=image/png:https://www.aachen.digital/wp-content/uploads/2019/04/Gründerstammtisch.png
END:VEVENT
BEGIN:VEVENT
DTSTART;TZID=Europe/Berlin:20190409T193000
DTEND;TZID=Europe/Berlin:20190409T220000
DTSTAMP:20260423T165807
CREATED:20190326T145900Z
LAST-MODIFIED:20190326T145900Z
UID:10004986-1554838200-1554847200@www.aachen.digital
SUMMARY:Spätschicht – Afterwork-Networking in der Werkbank
DESCRIPTION:Ein kühles Bier\, ein Glas Wein oder einen Softdrink nach der Arbeit? In einer coolen Location mit Unternehmern\, Entscheidern und Netzwerkern aus der Region zusammentreffen und richtig „networken“? Die Werkbank Heinsberg findet das eine richtig gute Sache und lädt dich deshalb zur 2. „Spätschicht“ in der Werkbank ein. \nNach dem Erfolg der ersten Spätschicht folgt nun Runde 2. Am 09.04.2019 laden dich der Gewerbe- und Verkehrsverein Heinsberg e.V. und die Werkbank zum Afterwork-Networking ein. Erhalte neue Impulse für dein Business\, treffe nette Menschen und knüpfe wertvolle Geschäftskontakte in ungezwungener Atmosphäre. \n  \nWeitere Informationen zum Event sowie zur Anmeldung findest Du hier:\nSpätschicht – Afterwork-Networking in der Werkbank
URL:https://www.aachen.digital/en/event/spaetschicht-afterwork-networking-in-der-werkbank/
LOCATION:Werkbank Heinsberg\, Hochstraße 100\, Heinsberg\, 52525
ATTACH;FMTTYPE=image/jpeg:https://www.aachen.digital/wp-content/uploads/2019/03/Spätschicht-–-Afterwork-Networking-in-der-Werkbank.jpg
ORGANIZER;CN="Werkbank Heinsberg":MAILTO:buero@werkbank-hs.de
END:VEVENT
BEGIN:VEVENT
DTSTART;TZID=Europe/Berlin:20190319T174500
DTEND;TZID=Europe/Berlin:20190319T194500
DTSTAMP:20260423T165807
CREATED:20190206T134756Z
LAST-MODIFIED:20190214T142623Z
UID:10004946-1553017500-1553024700@www.aachen.digital
SUMMARY:IT Werkbank Forum: Chatbots - wie KI wirklichen Nutzen bringt
DESCRIPTION:“Die Welt wird immer verrückter” – sagt man.\n“Roboter werden den Menschen bald ablösen” – hört man.\n“Die Ethik bleibt auf der Strecke” – ist man sich sicher.\n“Künstliche Intelligenz kann man im Mittelstand noch gar nicht gewinnbringend einsetzen.”\nAlles falsch! \nGerade anhand eines Chatbots zum Beispiel für den User-Helpdesk kann man den Gewinn\, den künstliche Intelligenz für Unternehmen jeder Ausprägung zu bieten hat\, hervorragend darstellen. \nDas IT Werkbank Forum der Werkbank Heinsberg konnte mit Sascha Utzen\, Chief Operating Officer der KI group\, einen absoluten Fachmann für ihr Forum gewinnen\, der den Teilnehmern leicht verständlich erläutern wird\, was die Vorteile sind\, wie man es angeht um einen wirklichen Nutzen zu erzielen und welche Bedenken gerechtfertigt sind oder eben nicht. \nFindet Euch im IT Werkbank Forum ein\, werdet Teil dieses interaktiven Workshops und diskutiert zusammen die Idee vom effektiven “Werken”. \n  \nDas IT Werkbank Forum ist kostenfrei. Weitere Infos sowie die Anmeldung finden Sie hier: \nWerkbank Heinsberg
URL:https://www.aachen.digital/en/event/it-werkbank-forum-chatbots-wie-ki-wirklichen-nutzen-bringt/
LOCATION:Werkbank Heinsberg\, Hochstraße 100\, Heinsberg\, 52525
ATTACH;FMTTYPE=image/jpeg:https://www.aachen.digital/wp-content/uploads/2019/02/Werkbank-Heinsberg_Chatbots-Wie-küntliche-Intelligenz-wirklichen-nutzen-bringt_125.jpg
ORGANIZER;CN="Werkbank Heinsberg":MAILTO:buero@werkbank-hs.de
END:VEVENT
END:VCALENDAR