BEGIN:VCALENDAR
VERSION:2.0
PRODID:-//digitalHUB Aachen - ECPv6.15.20//NONSGML v1.0//EN
CALSCALE:GREGORIAN
METHOD:PUBLISH
X-WR-CALNAME:digitalHUB Aachen
X-ORIGINAL-URL:https://www.aachen.digital/en/
X-WR-CALDESC:Events for digitalHUB Aachen
REFRESH-INTERVAL;VALUE=DURATION:PT1H
X-Robots-Tag:noindex
X-PUBLISHED-TTL:PT1H
BEGIN:VTIMEZONE
TZID:Europe/Berlin
BEGIN:DAYLIGHT
TZOFFSETFROM:+0100
TZOFFSETTO:+0200
TZNAME:CEST
DTSTART:20230326T010000
END:DAYLIGHT
BEGIN:STANDARD
TZOFFSETFROM:+0200
TZOFFSETTO:+0100
TZNAME:CET
DTSTART:20231029T010000
END:STANDARD
BEGIN:DAYLIGHT
TZOFFSETFROM:+0100
TZOFFSETTO:+0200
TZNAME:CEST
DTSTART:20240331T010000
END:DAYLIGHT
BEGIN:STANDARD
TZOFFSETFROM:+0200
TZOFFSETTO:+0100
TZNAME:CET
DTSTART:20241027T010000
END:STANDARD
BEGIN:DAYLIGHT
TZOFFSETFROM:+0100
TZOFFSETTO:+0200
TZNAME:CEST
DTSTART:20250330T010000
END:DAYLIGHT
BEGIN:STANDARD
TZOFFSETFROM:+0200
TZOFFSETTO:+0100
TZNAME:CET
DTSTART:20251026T010000
END:STANDARD
END:VTIMEZONE
BEGIN:VEVENT
DTSTART;TZID=Europe/Berlin:20241009T090000
DTEND;TZID=Europe/Berlin:20241009T113000
DTSTAMP:20260423T192426
CREATED:20240912T082408Z
LAST-MODIFIED:20240930T083238Z
UID:10006873-1728464400-1728473400@www.aachen.digital
SUMMARY:Digital. Praktisch. Nah. - Digitalisierung im zweiten Gesundheitsmarkt
DESCRIPTION:Die Veranstaltung findet als Kooperation der WIN.DN – Wirtschafts- und Innovationsnetzwerk der Stadt Düren zusammen mit der AGIT Aachener Gesellschaft für Innovation und Technologie mbH und dem Mittelstand-Digital Zentrum Rheinland statt. Sie richtet sich an Fach- und Führungskräfte des Mittelstands. Vorkenntnisse sind nicht erforderlich. \nAgenda\n\nBegrüßung | Klaus Schiernbaum\, WIN.DN Düren\nVorstellung der Weyergans High Care AG | Rudolf Weyergans\nEinführung und Anwendung von KI für den Mittelstand I Mittelstand-Digital Zentrum Rheinland |\nBetriebsbesichtigung bei der Weyergans AG\nNetzwerken\n\n  \nRückfragen?\nWenden Sie sich bitte an Herrn Klaus Schierbaum von der WIN.DN Düren unter Tel +49 2421 69540 25. \n\nÜber das Mittelstand-Digital Zentrum Rheinland\nDas Mittelstand-Digital Zentrum Rheinland gehört zu Mittelstand-Digital. Das Mittelstand-Digital Netzwerk bietet mit den Mittelstand-Digital Zentren\, der Initiative IT-Sicherheit in der Wirtschaft und Digital Jetzt umfassende Unterstützung bei der Digitalisierung.\nKleine und mittlere Unternehmen profitieren von konkreten Praxisbeispielen und passgenauen\, anbieterneutralen Angeboten zur Qualifikation und IT-Sicherheit. Das Bundesministerium für Wirtschaft und Klimaschutz ermöglicht die kostenfreie Nutzung und stellt finanzielle Zuschüsse bereit. \n  \nMit der Anmeldung zu dieser Veran­stal­tung erklären Sie sich mit Folgendem einver­standen: Aufnahme Ihrer Angaben auf Teil­neh­mer­listen\, Bereit­stel­lung von Kontak­t­in­for­ma­tionen für die veranstaltenden Partner für die Zusendung der Veranstaltungsunterlagen und den Erhalt von Einla­dungen zu deren weiteren Veran­stal­tungen. Die Einwil­li­gung kann jederzeit mit Wirkung für die Zukunft wider­rufen werden. \nWir freuen uns auf eine spannende Veranstaltung! \nHier anmelden und mehr erfahren \nWeitere Events aus der Reihe “Digital. Praktisch. Nah.” im Programmflyer 2024/2025 >>
URL:https://www.aachen.digital/en/event/digital-praktisch-nah-digitalisierung-im-zweiten-gesundheitsmarkt-2/
LOCATION:Weyergans High Care AG\, An Gut Boisdorf 8\, Düren\, Nordrhein-Westfalen\, 52355\, Germany
ATTACH;FMTTYPE=image/jpeg:https://www.aachen.digital/wp-content/uploads/2024/07/Digital-Praktisch-Nah-Stage-1.jpg
END:VEVENT
BEGIN:VEVENT
DTSTART;TZID=Europe/Berlin:20240805T090000
DTEND;TZID=Europe/Berlin:20240805T113000
DTSTAMP:20260423T192426
CREATED:20240805T083624Z
LAST-MODIFIED:20240930T083631Z
UID:10006841-1722848400-1722857400@www.aachen.digital
SUMMARY:Digital. Praktisch. Nah. - Digitalisierung im zweiten Gesundheitsmarkt
DESCRIPTION:Erfahren Sie mehr über: Technik aus der Weltraummedizin im Einsatz für Vitalität und Langlebigkeit. Digitalisierung eröffnet neue Perspektiven für kommerzielle Verwertung im zweiten Gesundheitsmarkt \nDie Veranstaltung findet als Kooperation der WIN.DN – Wirtschafts- und Innovationsnetzwerk der Stadt Düren zusammen mit der AGIT Aachener Gesellschaft für Innovation und Technologie mbH und dem Mittelstand-Digital Zentrum Rheinland statt. Sie richtet sich an Fach- und Führungskräfte des Mittelstands. Vorkenntnisse sind nicht erforderlich \nAgenda \n\nBegrüßung und Vorstellung | Weyergans High Care AG\nWIN.DN\nAGIT\nMittelstand-Digital Zentrum Rheinland\nWeyergans High Care AG\nNetzwerken\n\nDie Teilnahme ist kostenlos \nHier mehr erfahren und anmelden \nWeitere Events aus der Reihe “Digital. Praktisch. Nah.” im Programmflyer 2024/2025 >>
URL:https://www.aachen.digital/en/event/digital-praktisch-nah-digitalisierung-im-zweiten-gesundheitsmarkt/
LOCATION:Weyergans High Care AG\, An Gut Boisdorf 8\, Düren\, Nordrhein-Westfalen\, 52355\, Germany
ATTACH;FMTTYPE=image/jpeg:https://www.aachen.digital/wp-content/uploads/2024/07/Digital-Praktisch-Nah-Stage-1.jpg
END:VEVENT
END:VCALENDAR