BEGIN:VCALENDAR
VERSION:2.0
PRODID:-//digitalHUB Aachen - ECPv6.15.20//NONSGML v1.0//EN
CALSCALE:GREGORIAN
METHOD:PUBLISH
X-ORIGINAL-URL:https://www.aachen.digital/en/
X-WR-CALDESC:Events for digitalHUB Aachen
REFRESH-INTERVAL;VALUE=DURATION:PT1H
X-Robots-Tag:noindex
X-PUBLISHED-TTL:PT1H
BEGIN:VTIMEZONE
TZID:Europe/Berlin
BEGIN:DAYLIGHT
TZOFFSETFROM:+0100
TZOFFSETTO:+0200
TZNAME:CEST
DTSTART:20180325T010000
END:DAYLIGHT
BEGIN:STANDARD
TZOFFSETFROM:+0200
TZOFFSETTO:+0100
TZNAME:CET
DTSTART:20181028T010000
END:STANDARD
BEGIN:DAYLIGHT
TZOFFSETFROM:+0100
TZOFFSETTO:+0200
TZNAME:CEST
DTSTART:20190331T010000
END:DAYLIGHT
BEGIN:STANDARD
TZOFFSETFROM:+0200
TZOFFSETTO:+0100
TZNAME:CET
DTSTART:20191027T010000
END:STANDARD
BEGIN:DAYLIGHT
TZOFFSETFROM:+0100
TZOFFSETTO:+0200
TZNAME:CEST
DTSTART:20200329T010000
END:DAYLIGHT
BEGIN:STANDARD
TZOFFSETFROM:+0200
TZOFFSETTO:+0100
TZNAME:CET
DTSTART:20201025T010000
END:STANDARD
END:VTIMEZONE
BEGIN:VEVENT
DTSTART;TZID=Europe/Berlin:20191210T090000
DTEND;TZID=Europe/Berlin:20191210T170000
DTSTAMP:20260424T011630
CREATED:20191213T084642Z
LAST-MODIFIED:20191213T084642Z
UID:10005478-1575968400-1575997200@www.aachen.digital
SUMMARY:Workshop-Reihe „Digital Readiness“ – #1 Design Thinking Basics
DESCRIPTION:Erlebe\, wie Du über einen 6-stufigen Prozess systematisch zu neuen Ideen gelangen:\n\nDesign Thinking – Der Prozess anhand eines einfachen Beispiels\nDie Theorie hinter dem Prozess und den sechs einzelnen Schritten\, Meta-Ebene & Mindset\nDesign Thinking Fast Forward – Durchlauf des Prozesses in 3 Stunden anhand einer Challenge\nDie neuen Erkenntnisse auf der Theorie-Ebene verstehen\, Übertragung auf das Anwendungsgebiet\nDeep Dive in die letzte Phase des Prozesses: Spezifische Methoden zum Testen von Prototypen und ihre Anwendung\n\n  \nModerator\nAnna Stratigakis ist Innovation Consultant bei Marzavan. Sie besitzt über sechs Jahre Erfahrung im Bereich Markenentwicklung\, Innovation und Design. In London hat sie u.a. für Landor Associates\, Brand Union und Saffron sektorübergfreifend für internationale Kunden gearbeitet. Anna ist Expertin bei allen Fragen rund um nutzerzentrierte Produkt- und Serviceentwicklungen. Außerdem ist sie eine empathische und motivierende Moderatorin. Marzavan ist eine in Berlin ansässige\, international agierende Innovationsberatung. Das Team berät\, trainiert und schult mit der Methode Design Thinking unter anderem Konzerne wie Daimler\, Boston Consulting und SAP. www.marzavan.com \n\nDie Digitale Transformation als unternehmerische Chance\nDie wichtigsten Facts zuerst: \n\nSei eine(r) der Ersten\, denn die Workshopreihe ist sehr gefragt.\nDie Teilnahme ist absolut kostenlos.\nMit der Teilnahme an allen Workshops erhälst du ein Zertifikat.\nDie TeilnehmerInnenanzahl ist limitiert auf max. 16\, bei Workshop 1 auf 12.\nDurch deine Teilnahme hast du die Chance auf Eintrittskarten für ein Heimturnier der SWD Powervolleys Düren zu gewinnen.\nDie Workshopreihe ist eine Kooperation vom digitalHUB Aachen mit DÜREN.DIGITAL.NETWORK\n\n  \n \nDie Digitalisierung ändert die Spielregeln unseres alltäglichen Handelns. Sie sorgt für enorme Umwälzungen in Wirtschaft und Gesellschaft\, bei Arbeit\, Konsum\, Kooperation und Kommunikation. Und mehr noch als in allen vorherigen Transformationen gilt bei der Digitalisierung: Gewinnen wird\, wer frühzeitig neue Märkte erschließt und schnell eigene Standards setzt. So ist es für Unternehmen zwingend notwendig\, ihre Geschäftsmodelle zu überdenken\, neue zu entwickeln und sie digital fit zu machen. \nDiese digitale Fitness wird in einem Prozess erlangt – sie ist nicht einfach da. Der Grad der Fitness ist dabei in jeder Organisation höchst individuell. Für die meisten Unternehmen bedarf es hier einer digitalen Transformation. Dies erfordert neue Fähigkeiten – in digitalen Technologien und der Organisation.\nDabei werden den TeilnehmerInnen wichtige Kenntnisse\, Impulse\, konkrete Praktiken\, Methoden und Tools aus dem Bereich kundenzentrierter Innovationsarbeit und digitaler Transformation vermittelt\, die dabei unterstützen\, Geschäftsmodelle ebenso wie Produkte bzw. Services mit Aspekten der Kundenzentrierung und digitalen Wertschöpfung weiter zu entwickeln. \nAlle Workshops richten sich an Führungskräfte aller Ebenen mit Schnittstellen zu Innovations- bzw. Digitalisierungsaufgaben ebenso wie an MitarbeiterInnen\, die für Aufgaben in den Bereichen Digitalisierung bzw. Innovation vorbereitet bzw. weitergebildet werden sollen. \n  \nDas Workshop Format:\nBei den angebotenen Workshops handelt es sich um 4-stündige interaktive Formate mit Impulsvorträgen\, Vermittlung von Methoden und Tools sowie praktischen Übungen zur Anwendung und Vertiefung anhand individueller Herausforderungen der TeilnehmerInnen bzw. Best Practice-Beispielen. Einzige Ausnahme ist der Workshop Design Thinking\, der mit acht Stunden als Tages-Workshop vorgesehen ist.\nDie Workshops sind so konzipiert\, dass sie auch einzeln besucht werden können. Spezifisches Vorwissen ist nicht erforderlich.\nUnternehmen\, die sich die Potenziale der Digitalisierung systematisch erschließen wollen oder noch am Anfang ihrer Digitalisierungsbemühungen stehen\, empfehlen wir jedoch\, sich schon vor dem Start der Workshop-Reihe Plätze in allen sechs Workshops zu sichern. \n  \nDie Workshops:\n\nDesign Thinking Basics: 10.12.2019\, 09 – 17 Uhr\, Anna Stratigakis\nGrundlagen der Automatisierung und Digitalisierung: 14.01.2020\, 16 – 20 Uhr\, Peter Michael Bickel\nDigitale Wertschöpfung – Was Kunden wirklich wollen: 28.01.2020\, 16 – 20 Uhr\, Karina Radach & Carlo Matic\nGrundlagen digitaler Geschäftsmodelle: 18.03.2020\, 16 – 20 Uhr\, Peter Michael Bickel\nDigitale Arbeitsweisen: 05.05.2020\, 16 – 20 Uhr\, Carlo Matic\nValidierung digitaler Geschäftsmodelle: 19.05.2020\, 16 – 20 Uhr\, Carlo Matic & Karina Radach\n\nHIER GEHTS ZUR KOSTENLOSEN ANMELDUNG\nBei Fragen zur Anmeldung melden Sie sich per E-Mail bei philicia.dickmeis@hubaachen.de
URL:https://www.aachen.digital/en/event/workshop-reihe-digital-readiness-1-design-thinking-basics/
LOCATION:Geistesblitz – Raum für Ideen Bismarck Q\, Moltkestraße 42\, Düren\, NRW\, 52351\, Deutschland
ATTACH;FMTTYPE=image/jpeg:https://www.aachen.digital/wp-content/uploads/2019/11/digitalReadiness-Düren-12zu5.jpg
END:VEVENT
END:VCALENDAR