BEGIN:VCALENDAR
VERSION:2.0
PRODID:-//digitalHUB Aachen - ECPv6.15.20//NONSGML v1.0//EN
CALSCALE:GREGORIAN
METHOD:PUBLISH
X-ORIGINAL-URL:https://www.aachen.digital/en/
X-WR-CALDESC:Events for digitalHUB Aachen
REFRESH-INTERVAL;VALUE=DURATION:PT1H
X-Robots-Tag:noindex
X-PUBLISHED-TTL:PT1H
BEGIN:VTIMEZONE
TZID:Europe/Berlin
BEGIN:DAYLIGHT
TZOFFSETFROM:+0100
TZOFFSETTO:+0200
TZNAME:CEST
DTSTART:20180325T010000
END:DAYLIGHT
BEGIN:STANDARD
TZOFFSETFROM:+0200
TZOFFSETTO:+0100
TZNAME:CET
DTSTART:20181028T010000
END:STANDARD
BEGIN:DAYLIGHT
TZOFFSETFROM:+0100
TZOFFSETTO:+0200
TZNAME:CEST
DTSTART:20190331T010000
END:DAYLIGHT
BEGIN:STANDARD
TZOFFSETFROM:+0200
TZOFFSETTO:+0100
TZNAME:CET
DTSTART:20191027T010000
END:STANDARD
BEGIN:DAYLIGHT
TZOFFSETFROM:+0100
TZOFFSETTO:+0200
TZNAME:CEST
DTSTART:20200329T010000
END:DAYLIGHT
BEGIN:STANDARD
TZOFFSETFROM:+0200
TZOFFSETTO:+0100
TZNAME:CET
DTSTART:20201025T010000
END:STANDARD
BEGIN:DAYLIGHT
TZOFFSETFROM:+0100
TZOFFSETTO:+0200
TZNAME:CEST
DTSTART:20210328T010000
END:DAYLIGHT
BEGIN:STANDARD
TZOFFSETFROM:+0200
TZOFFSETTO:+0100
TZNAME:CET
DTSTART:20211031T010000
END:STANDARD
BEGIN:DAYLIGHT
TZOFFSETFROM:+0100
TZOFFSETTO:+0200
TZNAME:CEST
DTSTART:20220327T010000
END:DAYLIGHT
BEGIN:STANDARD
TZOFFSETFROM:+0200
TZOFFSETTO:+0100
TZNAME:CET
DTSTART:20221030T010000
END:STANDARD
BEGIN:DAYLIGHT
TZOFFSETFROM:+0100
TZOFFSETTO:+0200
TZNAME:CEST
DTSTART:20230326T010000
END:DAYLIGHT
BEGIN:STANDARD
TZOFFSETFROM:+0200
TZOFFSETTO:+0100
TZNAME:CET
DTSTART:20231029T010000
END:STANDARD
BEGIN:DAYLIGHT
TZOFFSETFROM:+0100
TZOFFSETTO:+0200
TZNAME:CEST
DTSTART:20240331T010000
END:DAYLIGHT
BEGIN:STANDARD
TZOFFSETFROM:+0200
TZOFFSETTO:+0100
TZNAME:CET
DTSTART:20241027T010000
END:STANDARD
END:VTIMEZONE
BEGIN:VEVENT
DTSTART;TZID=Europe/Berlin:20230125T093000
DTEND;TZID=Europe/Berlin:20230125T163000
DTSTAMP:20260423T193918
CREATED:20221207T112922Z
LAST-MODIFIED:20221213T134613Z
UID:10006374-1674639000-1674664200@www.aachen.digital
SUMMARY:Routen der Innovation im Kreis Heinsberg
DESCRIPTION:Routen der Innovation am 25. Januar im Kreis Heinsberg – Vier Innovationstreiber der Mobilitätsbranche öffnen ihre Türen. \nUnter dem Motto „Tradition trifft Innovation“ wird bei einer Rundreise durch den Kreis Heinsberg mit dem historischen Bus der WestVerkehr GmbH aus dem Jahre 1953 bei WestVerkehr GmbH in Geilenkirchen\, F. Sodermanns Automobile GmbH in Wassenberg\, Siemens Mobility GmbH und DENSO Automotive Deutschland GmbH in Wegberg Halt gemacht. \nSpannende Vorträge und Einblicke in innovative Projekte\, Produkte und Dienstleistungen rund um die Mobilität der Zukunft ermöglichen den Gästen Eindrücke in die Innovationskraft leistungsstarker Unternehmen im Kreis Heinsberg und einen Ausblick in die Zukunft intelligenter Mobilität. Vom Einsatz künstlicher Intelligenz bei der Routenplanung für mobility on demand-Systeme über die Bedeutung barrierefreier Mobilität für Menschen mit Einschränkungen\, die Zukunft mit wasserstoffgetriebenen Schienenfahrzeugen bis zur Bedeutung alternativer Antriebe im Bereich automotive. \nBuchen Sie jetzt eines der begrenzt verfügbaren Tickets für diese spannende und außergewöhnliche Tages-Reise in die Zukunft der Mobilität! \nZUR ANMELDUNG
URL:https://www.aachen.digital/en/event/routen-der-innovation-im-kreis-heinsberg/
LOCATION:Wirtschaftsförderungsgesellchaft für den Kreis Heinsberg\, Klostergasse 17\, Heinsberg\, 52525\, Deutschland
ATTACH;FMTTYPE=image/jpeg:https://www.aachen.digital/wp-content/uploads/2022/12/routenderinnovation_visual_stage.jpg
ORGANIZER;CN="Region Aachen Zweckverband":MAILTO:info@regionaachen.de
END:VEVENT
BEGIN:VEVENT
DTSTART;TZID=Europe/Berlin:20190919T100000
DTEND;TZID=Europe/Berlin:20190919T130000
DTSTAMP:20260423T193918
CREATED:20190905T121320Z
LAST-MODIFIED:20190905T125046Z
UID:10005367-1568887200-1568898000@www.aachen.digital
SUMMARY:EXISTENZIA
DESCRIPTION:Egal\, ob Sie schon eine konkrete Idee für Ihr eigenes Unternehmen haben\, oder\, ob Sie sich allgemein über alle wichtigen Fragen im Zusammenhang mit der Unternehmensgründung informieren möchten\, wir bieten Ihnen dazu Informationen\, Tipps und Orientierung an. \nDas Seminar für Existenzgründer geht dazu auf alle notwendigen Grundlagen und Schritte ein: Von der persönlichen Eignung über Anmeldeformalitäten\, betriebliche und private Versicherungen\, bis hin zur Investitionsplanung und Rentabilitätsvorschau. Wir begleiten seit vielen Jahren die konzeptionelle Entwicklung von Geschäftsmodellen und deren Umsetzung – nutzen Sie unser Wissen und unsere Erfahrung für Ihren eigenen Erfolgsweg. \nAuf eigenen Beinen sicher durch den Behördendschungel! \nFördergelder und zinsgünstige Darlehen erleichtern Ihnen sicher den Start. Die clevere Finanzierung und Liquiditätsplanung für die Existenzgründungsphase der ersten Jahre ist ein zentraler Erfolgsfaktor. Wir zeigen Ihnen die aktuellen Angebote\, aber auch die Wege und Möglichkeiten\, diese zu nutzen. \nMachen Sie sich auf den Weg und melden Sie sich an!\nSeminargebühr incl. Seminarunterlagen und Teilnahmebescheinigung: 20 Euro. \nKontakt: startercenter@gruenderregion.de \nWeitere Infos sowie das Anmeldeformular finden Sie hier: \nGründerRegion Aachen
URL:https://www.aachen.digital/en/event/existenzia-24/
LOCATION:Wirtschaftsförderungsgesellchaft für den Kreis Heinsberg\, Klostergasse 17\, Heinsberg\, 52525\, Deutschland
ATTACH;FMTTYPE=image/jpeg:https://www.aachen.digital/wp-content/uploads/2019/08/stage_gruenderregion-1.jpg
ORGANIZER;CN="Gr%C3%BCnderRegion Aachen":MAILTO:info@gruenderregion.de
END:VEVENT
END:VCALENDAR