BEGIN:VCALENDAR
VERSION:2.0
PRODID:-//digitalHUB Aachen - ECPv6.15.20//NONSGML v1.0//EN
CALSCALE:GREGORIAN
METHOD:PUBLISH
X-ORIGINAL-URL:https://www.aachen.digital/en/
X-WR-CALDESC:Events for digitalHUB Aachen
REFRESH-INTERVAL;VALUE=DURATION:PT1H
X-Robots-Tag:noindex
X-PUBLISHED-TTL:PT1H
BEGIN:VTIMEZONE
TZID:Europe/Berlin
BEGIN:DAYLIGHT
TZOFFSETFROM:+0100
TZOFFSETTO:+0200
TZNAME:CEST
DTSTART:20180325T010000
END:DAYLIGHT
BEGIN:STANDARD
TZOFFSETFROM:+0200
TZOFFSETTO:+0100
TZNAME:CET
DTSTART:20181028T010000
END:STANDARD
BEGIN:DAYLIGHT
TZOFFSETFROM:+0100
TZOFFSETTO:+0200
TZNAME:CEST
DTSTART:20190331T010000
END:DAYLIGHT
BEGIN:STANDARD
TZOFFSETFROM:+0200
TZOFFSETTO:+0100
TZNAME:CET
DTSTART:20191027T010000
END:STANDARD
BEGIN:DAYLIGHT
TZOFFSETFROM:+0100
TZOFFSETTO:+0200
TZNAME:CEST
DTSTART:20200329T010000
END:DAYLIGHT
BEGIN:STANDARD
TZOFFSETFROM:+0200
TZOFFSETTO:+0100
TZNAME:CET
DTSTART:20201025T010000
END:STANDARD
BEGIN:DAYLIGHT
TZOFFSETFROM:+0100
TZOFFSETTO:+0200
TZNAME:CEST
DTSTART:20210328T010000
END:DAYLIGHT
BEGIN:STANDARD
TZOFFSETFROM:+0200
TZOFFSETTO:+0100
TZNAME:CET
DTSTART:20211031T010000
END:STANDARD
BEGIN:DAYLIGHT
TZOFFSETFROM:+0100
TZOFFSETTO:+0200
TZNAME:CEST
DTSTART:20220327T010000
END:DAYLIGHT
BEGIN:STANDARD
TZOFFSETFROM:+0200
TZOFFSETTO:+0100
TZNAME:CET
DTSTART:20221030T010000
END:STANDARD
BEGIN:DAYLIGHT
TZOFFSETFROM:+0100
TZOFFSETTO:+0200
TZNAME:CEST
DTSTART:20230326T010000
END:DAYLIGHT
BEGIN:STANDARD
TZOFFSETFROM:+0200
TZOFFSETTO:+0100
TZNAME:CET
DTSTART:20231029T010000
END:STANDARD
BEGIN:DAYLIGHT
TZOFFSETFROM:+0100
TZOFFSETTO:+0200
TZNAME:CEST
DTSTART:20240331T010000
END:DAYLIGHT
BEGIN:STANDARD
TZOFFSETFROM:+0200
TZOFFSETTO:+0100
TZNAME:CET
DTSTART:20241027T010000
END:STANDARD
END:VTIMEZONE
BEGIN:VEVENT
DTSTART;TZID=Europe/Berlin:20230615T170000
DTEND;TZID=Europe/Berlin:20230615T190000
DTSTAMP:20260423T231406
CREATED:20230524T095835Z
LAST-MODIFIED:20230524T095835Z
UID:10005908-1686848400-1686855600@www.aachen.digital
SUMMARY:Roundtable Diversity in Aachen
DESCRIPTION:Aachen ist vielfältig und die Chancen dieser Diversität zu nutzen\, bedeutet sich zukunftsfähig aufzustellen. Wie sieht es konkret aus mit der Förderung von Vielfalt in Unternehmen\, Organisationen\, Vereinen und Verbänden in Aachen? Welche Chancen liegen in der Beschäftigung mit Vielfalt und welche Fragestellungen bringt das mit sich? Wie kann gerade auch für LSBTIQ* Sichtbarkeit und Akzeptanz geschaffen werden? Der Roundtable Diversity des Aachener Unternehmer:innennetzwerks “Frau mit Bizz” von Sirit Coeppicus und der Netzwerkstelle UNTERNEHMEN VIELFALT bietet die Möglichkeit\, zusammenzukommen\, Erfahrungen auszustauschen und Synergien entstehen zu lassen\, um gemeinsam Akzeptanz und Offenheit für Vielfalt in der Stadtgesellschaft zu schaffen. \nFreuen Sie sich auf einen spannenden Austausch mit: \n\nOberbürgermeisterin Sibylle Keupen\nSabine Bausch\, Gleichstellungsbeauftragte der Stadt Aachen\nHeike Borchers\, Geschäftsführerin Aus- und Fortbildung IHK Aachen\nMaurice Funken\, Direktor Neuer Aachener Kunstverein\nProf. Axel Minten\, FOM Hochschule für Oekonomie & Management\nDr. Markus Pavlovic\, Geschäftsführender Vorstand Rainbow e.V.\n\nAnmeldungen und mehr Infos unter:\ninfo@unternehmen-vielfalt.nrw oder 0231 / 55 69 76-28
URL:https://www.aachen.digital/en/event/roundtable-diversity-in-aachen/
LOCATION:WORQS Coworking Aachen\, Oppenhoffallee 143\, Aachen\, 52066\, Deutschland
ATTACH;FMTTYPE=image/jpeg:https://www.aachen.digital/wp-content/uploads/2023/05/AdobeStock_328771876-scaled-1.jpeg
END:VEVENT
BEGIN:VEVENT
DTSTART;TZID=Europe/Berlin:20190618T170000
DTEND;TZID=Europe/Berlin:20190618T200000
DTSTAMP:20260423T231406
CREATED:20190604T083939Z
LAST-MODIFIED:20190604T083939Z
UID:10005041-1560877200-1560888000@www.aachen.digital
SUMMARY:New Work\, die Zukunft der Arbeit und die neue Kultur der Menschen
DESCRIPTION:Die Arbeitswelt erfährt seit einigen Jahren einen grundlegenden und strukturellen Wandel. New Work ist der Inbegriff für diese Transformation. Die Auslöser für diese Entwicklung sind aber vielfältig. Immer drängender stellt sich die Frage\, wie wir mit dem Megatrend New Work umgehen. Klar ist bereits jetzt: Stellenprofile\, Aufgabenprofile und Arbeitsplätze werden sich verändern. Mehr Kreativität ist ebenso stark gefragt\, wie mehr Emotionalität und soziales Verhalten. \nMit der digitalen Qualifizierungsoffensive „[STRG] + [A] + [C]“ möchte die Wirtschaftsförderung der Stadt Aachen gemeinsam mit den Digitalisierungspartnern Aachener KMU und deren Mitarbeiter*innen mithilfe von Qualifizierungsmaßnahmen aktiv bei der Digitalisierung unterstützen. \nAm 18. Juni 2019 wird im Rahmen des Projektes das zweite [STRG] + [A] + [C]- Netzwerktreffen ab 17 Uhr im WORQS – Coworking stattfinden. \nTobias Kollewe (CEO / cowork AG) und Thomas Mathes (Geschäftsführer Mathes GmbH & Co. KG) werden mit spannenden Impulsen aus der Praxis den Austausch über die Entwicklung von New Work und den Wandel der Unternehmenskultur eröffnen. Danach wird Ihnen eine Führung durch das WORQS Gelegenheit bieten\, konkrete Ideen zum Thema New Work und Coworking zu erleben. Abschließend besteht bei leckeren Snacks und kühlen Getränken die Möglichkeit zum Austausch und Netzwerken. \nAnmeldung per Mail (strg.ac@mail.aachen.de) oder über das Anmeldeformular hier: \nAnmeldung
URL:https://www.aachen.digital/en/event/new-work-die-zukunft-der-arbeit-und-die-neue-kultur-der-menschen/
LOCATION:WORQS Coworking Aachen\, Oppenhoffallee 143\, Aachen\, 52066\, Deutschland
ATTACH;FMTTYPE=image/png:https://www.aachen.digital/wp-content/uploads/2019/06/Unbenannt.png
END:VEVENT
END:VCALENDAR